BEGIN:VCALENDAR
VERSION:2.0
PRODID:-//North State Parent magazine - ECPv6.15.20//NONSGML v1.0//EN
CALSCALE:GREGORIAN
METHOD:PUBLISH
X-WR-CALNAME:North State Parent magazine
X-ORIGINAL-URL:https://northstateparent.com
X-WR-CALDESC:Events for North State Parent magazine
REFRESH-INTERVAL;VALUE=DURATION:PT1H
X-Robots-Tag:noindex
X-PUBLISHED-TTL:PT1H
BEGIN:VTIMEZONE
TZID:America/Los_Angeles
BEGIN:DAYLIGHT
TZOFFSETFROM:-0800
TZOFFSETTO:-0700
TZNAME:PDT
DTSTART:20250309T100000
END:DAYLIGHT
BEGIN:STANDARD
TZOFFSETFROM:-0700
TZOFFSETTO:-0800
TZNAME:PST
DTSTART:20251102T090000
END:STANDARD
BEGIN:DAYLIGHT
TZOFFSETFROM:-0800
TZOFFSETTO:-0700
TZNAME:PDT
DTSTART:20260308T100000
END:DAYLIGHT
BEGIN:STANDARD
TZOFFSETFROM:-0700
TZOFFSETTO:-0800
TZNAME:PST
DTSTART:20261101T090000
END:STANDARD
BEGIN:DAYLIGHT
TZOFFSETFROM:-0800
TZOFFSETTO:-0700
TZNAME:PDT
DTSTART:20270314T100000
END:DAYLIGHT
BEGIN:STANDARD
TZOFFSETFROM:-0700
TZOFFSETTO:-0800
TZNAME:PST
DTSTART:20271107T090000
END:STANDARD
END:VTIMEZONE
BEGIN:VEVENT
DTSTART;TZID=America/Los_Angeles:20260425T073000
DTEND;TZID=America/Los_Angeles:20260425T083000
DTSTAMP:20260424T203057
CREATED:20260418T035435Z
LAST-MODIFIED:20260418T035545Z
UID:10108791-1777102200-1777105800@northstateparent.com
SUMMARY:Loose Leash Walking Seminar
DESCRIPTION:This a free event. Any dog with behavioral issues must be approved and currently enrolled in class to attend. All others are welcome. Will meet every week\, same time starting on the posted date above.
URL:https://northstateparent.com/event/loose-leash-walking-seminar/2026-04-25/
LOCATION:Sundial Bridge\, Sacramento River Trail\, Redding\, 96001
CATEGORIES:Animals,Community Event,Free,Outdoors
ATTACH;FMTTYPE=image/png:https://northstateparent.com/wp-content/uploads/2026/04/Screenshot-2026-04-17-at-8.49.59-PM-scaled.png
ORGANIZER;CN="Martin's NorCal Dog Training":MAILTO:martinsnorcal@gmail.com
END:VEVENT
BEGIN:VEVENT
DTSTART;TZID=America/Los_Angeles:20260502T073000
DTEND;TZID=America/Los_Angeles:20260502T083000
DTSTAMP:20260424T203057
CREATED:20260418T035435Z
LAST-MODIFIED:20260418T035545Z
UID:10108792-1777707000-1777710600@northstateparent.com
SUMMARY:Loose Leash Walking Seminar
DESCRIPTION:This a free event. Any dog with behavioral issues must be approved and currently enrolled in class to attend. All others are welcome. Will meet every week\, same time starting on the posted date above.
URL:https://northstateparent.com/event/loose-leash-walking-seminar/2026-05-02/
LOCATION:Sundial Bridge\, Sacramento River Trail\, Redding\, 96001
CATEGORIES:Animals,Community Event,Free,Outdoors
ATTACH;FMTTYPE=image/png:https://northstateparent.com/wp-content/uploads/2026/04/Screenshot-2026-04-17-at-8.49.59-PM-scaled.png
ORGANIZER;CN="Martin's NorCal Dog Training":MAILTO:martinsnorcal@gmail.com
END:VEVENT
BEGIN:VEVENT
DTSTART;TZID=America/Los_Angeles:20260509T073000
DTEND;TZID=America/Los_Angeles:20260509T083000
DTSTAMP:20260424T203057
CREATED:20260418T035435Z
LAST-MODIFIED:20260418T035545Z
UID:10108793-1778311800-1778315400@northstateparent.com
SUMMARY:Loose Leash Walking Seminar
DESCRIPTION:This a free event. Any dog with behavioral issues must be approved and currently enrolled in class to attend. All others are welcome. Will meet every week\, same time starting on the posted date above.
URL:https://northstateparent.com/event/loose-leash-walking-seminar/2026-05-09/
LOCATION:Sundial Bridge\, Sacramento River Trail\, Redding\, 96001
CATEGORIES:Animals,Community Event,Free,Outdoors
ATTACH;FMTTYPE=image/png:https://northstateparent.com/wp-content/uploads/2026/04/Screenshot-2026-04-17-at-8.49.59-PM-scaled.png
ORGANIZER;CN="Martin's NorCal Dog Training":MAILTO:martinsnorcal@gmail.com
END:VEVENT
BEGIN:VEVENT
DTSTART;TZID=America/Los_Angeles:20260516T073000
DTEND;TZID=America/Los_Angeles:20260516T083000
DTSTAMP:20260424T203057
CREATED:20260418T035435Z
LAST-MODIFIED:20260418T035545Z
UID:10108794-1778916600-1778920200@northstateparent.com
SUMMARY:Loose Leash Walking Seminar
DESCRIPTION:This a free event. Any dog with behavioral issues must be approved and currently enrolled in class to attend. All others are welcome. Will meet every week\, same time starting on the posted date above.
URL:https://northstateparent.com/event/loose-leash-walking-seminar/2026-05-16/
LOCATION:Sundial Bridge\, Sacramento River Trail\, Redding\, 96001
CATEGORIES:Animals,Community Event,Free,Outdoors
ATTACH;FMTTYPE=image/png:https://northstateparent.com/wp-content/uploads/2026/04/Screenshot-2026-04-17-at-8.49.59-PM-scaled.png
ORGANIZER;CN="Martin's NorCal Dog Training":MAILTO:martinsnorcal@gmail.com
END:VEVENT
BEGIN:VEVENT
DTSTART;TZID=America/Los_Angeles:20260523T073000
DTEND;TZID=America/Los_Angeles:20260523T083000
DTSTAMP:20260424T203057
CREATED:20260418T035435Z
LAST-MODIFIED:20260418T035545Z
UID:10108795-1779521400-1779525000@northstateparent.com
SUMMARY:Loose Leash Walking Seminar
DESCRIPTION:This a free event. Any dog with behavioral issues must be approved and currently enrolled in class to attend. All others are welcome. Will meet every week\, same time starting on the posted date above.
URL:https://northstateparent.com/event/loose-leash-walking-seminar/2026-05-23/
LOCATION:Sundial Bridge\, Sacramento River Trail\, Redding\, 96001
CATEGORIES:Animals,Community Event,Free,Outdoors
ATTACH;FMTTYPE=image/png:https://northstateparent.com/wp-content/uploads/2026/04/Screenshot-2026-04-17-at-8.49.59-PM-scaled.png
ORGANIZER;CN="Martin's NorCal Dog Training":MAILTO:martinsnorcal@gmail.com
END:VEVENT
BEGIN:VEVENT
DTSTART;TZID=America/Los_Angeles:20260530T073000
DTEND;TZID=America/Los_Angeles:20260530T083000
DTSTAMP:20260424T203057
CREATED:20260418T035435Z
LAST-MODIFIED:20260418T035545Z
UID:10108796-1780126200-1780129800@northstateparent.com
SUMMARY:Loose Leash Walking Seminar
DESCRIPTION:This a free event. Any dog with behavioral issues must be approved and currently enrolled in class to attend. All others are welcome. Will meet every week\, same time starting on the posted date above.
URL:https://northstateparent.com/event/loose-leash-walking-seminar/2026-05-30/
LOCATION:Sundial Bridge\, Sacramento River Trail\, Redding\, 96001
CATEGORIES:Animals,Community Event,Free,Outdoors
ATTACH;FMTTYPE=image/png:https://northstateparent.com/wp-content/uploads/2026/04/Screenshot-2026-04-17-at-8.49.59-PM-scaled.png
ORGANIZER;CN="Martin's NorCal Dog Training":MAILTO:martinsnorcal@gmail.com
END:VEVENT
BEGIN:VEVENT
DTSTART;TZID=America/Los_Angeles:20260606T073000
DTEND;TZID=America/Los_Angeles:20260606T083000
DTSTAMP:20260424T203057
CREATED:20260418T035435Z
LAST-MODIFIED:20260418T035545Z
UID:10108797-1780731000-1780734600@northstateparent.com
SUMMARY:Loose Leash Walking Seminar
DESCRIPTION:This a free event. Any dog with behavioral issues must be approved and currently enrolled in class to attend. All others are welcome. Will meet every week\, same time starting on the posted date above.
URL:https://northstateparent.com/event/loose-leash-walking-seminar/2026-06-06/
LOCATION:Sundial Bridge\, Sacramento River Trail\, Redding\, 96001
CATEGORIES:Animals,Community Event,Free,Outdoors
ATTACH;FMTTYPE=image/png:https://northstateparent.com/wp-content/uploads/2026/04/Screenshot-2026-04-17-at-8.49.59-PM-scaled.png
ORGANIZER;CN="Martin's NorCal Dog Training":MAILTO:martinsnorcal@gmail.com
END:VEVENT
BEGIN:VEVENT
DTSTART;TZID=America/Los_Angeles:20260613T073000
DTEND;TZID=America/Los_Angeles:20260613T083000
DTSTAMP:20260424T203057
CREATED:20260418T035435Z
LAST-MODIFIED:20260418T035545Z
UID:10108798-1781335800-1781339400@northstateparent.com
SUMMARY:Loose Leash Walking Seminar
DESCRIPTION:This a free event. Any dog with behavioral issues must be approved and currently enrolled in class to attend. All others are welcome. Will meet every week\, same time starting on the posted date above.
URL:https://northstateparent.com/event/loose-leash-walking-seminar/2026-06-13/
LOCATION:Sundial Bridge\, Sacramento River Trail\, Redding\, 96001
CATEGORIES:Animals,Community Event,Free,Outdoors
ATTACH;FMTTYPE=image/png:https://northstateparent.com/wp-content/uploads/2026/04/Screenshot-2026-04-17-at-8.49.59-PM-scaled.png
ORGANIZER;CN="Martin's NorCal Dog Training":MAILTO:martinsnorcal@gmail.com
END:VEVENT
BEGIN:VEVENT
DTSTART;TZID=America/Los_Angeles:20260620T073000
DTEND;TZID=America/Los_Angeles:20260620T083000
DTSTAMP:20260424T203057
CREATED:20260418T035435Z
LAST-MODIFIED:20260418T035545Z
UID:10108799-1781940600-1781944200@northstateparent.com
SUMMARY:Loose Leash Walking Seminar
DESCRIPTION:This a free event. Any dog with behavioral issues must be approved and currently enrolled in class to attend. All others are welcome. Will meet every week\, same time starting on the posted date above.
URL:https://northstateparent.com/event/loose-leash-walking-seminar/2026-06-20/
LOCATION:Sundial Bridge\, Sacramento River Trail\, Redding\, 96001
CATEGORIES:Animals,Community Event,Free,Outdoors
ATTACH;FMTTYPE=image/png:https://northstateparent.com/wp-content/uploads/2026/04/Screenshot-2026-04-17-at-8.49.59-PM-scaled.png
ORGANIZER;CN="Martin's NorCal Dog Training":MAILTO:martinsnorcal@gmail.com
END:VEVENT
BEGIN:VEVENT
DTSTART;TZID=America/Los_Angeles:20260627T073000
DTEND;TZID=America/Los_Angeles:20260627T083000
DTSTAMP:20260424T203057
CREATED:20260418T035435Z
LAST-MODIFIED:20260418T035545Z
UID:10108800-1782545400-1782549000@northstateparent.com
SUMMARY:Loose Leash Walking Seminar
DESCRIPTION:This a free event. Any dog with behavioral issues must be approved and currently enrolled in class to attend. All others are welcome. Will meet every week\, same time starting on the posted date above.
URL:https://northstateparent.com/event/loose-leash-walking-seminar/2026-06-27/
LOCATION:Sundial Bridge\, Sacramento River Trail\, Redding\, 96001
CATEGORIES:Animals,Community Event,Free,Outdoors
ATTACH;FMTTYPE=image/png:https://northstateparent.com/wp-content/uploads/2026/04/Screenshot-2026-04-17-at-8.49.59-PM-scaled.png
ORGANIZER;CN="Martin's NorCal Dog Training":MAILTO:martinsnorcal@gmail.com
END:VEVENT
BEGIN:VEVENT
DTSTART;TZID=America/Los_Angeles:20260704T073000
DTEND;TZID=America/Los_Angeles:20260704T083000
DTSTAMP:20260424T203057
CREATED:20260418T035435Z
LAST-MODIFIED:20260418T035545Z
UID:10108801-1783150200-1783153800@northstateparent.com
SUMMARY:Loose Leash Walking Seminar
DESCRIPTION:This a free event. Any dog with behavioral issues must be approved and currently enrolled in class to attend. All others are welcome. Will meet every week\, same time starting on the posted date above.
URL:https://northstateparent.com/event/loose-leash-walking-seminar/2026-07-04/
LOCATION:Sundial Bridge\, Sacramento River Trail\, Redding\, 96001
CATEGORIES:Animals,Community Event,Free,Outdoors
ATTACH;FMTTYPE=image/png:https://northstateparent.com/wp-content/uploads/2026/04/Screenshot-2026-04-17-at-8.49.59-PM-scaled.png
ORGANIZER;CN="Martin's NorCal Dog Training":MAILTO:martinsnorcal@gmail.com
END:VEVENT
BEGIN:VEVENT
DTSTART;TZID=America/Los_Angeles:20260711T073000
DTEND;TZID=America/Los_Angeles:20260711T083000
DTSTAMP:20260424T203057
CREATED:20260418T035435Z
LAST-MODIFIED:20260418T035545Z
UID:10108802-1783755000-1783758600@northstateparent.com
SUMMARY:Loose Leash Walking Seminar
DESCRIPTION:This a free event. Any dog with behavioral issues must be approved and currently enrolled in class to attend. All others are welcome. Will meet every week\, same time starting on the posted date above.
URL:https://northstateparent.com/event/loose-leash-walking-seminar/2026-07-11/
LOCATION:Sundial Bridge\, Sacramento River Trail\, Redding\, 96001
CATEGORIES:Animals,Community Event,Free,Outdoors
ATTACH;FMTTYPE=image/png:https://northstateparent.com/wp-content/uploads/2026/04/Screenshot-2026-04-17-at-8.49.59-PM-scaled.png
ORGANIZER;CN="Martin's NorCal Dog Training":MAILTO:martinsnorcal@gmail.com
END:VEVENT
BEGIN:VEVENT
DTSTART;TZID=America/Los_Angeles:20260718T073000
DTEND;TZID=America/Los_Angeles:20260718T083000
DTSTAMP:20260424T203057
CREATED:20260418T035435Z
LAST-MODIFIED:20260418T035545Z
UID:10108803-1784359800-1784363400@northstateparent.com
SUMMARY:Loose Leash Walking Seminar
DESCRIPTION:This a free event. Any dog with behavioral issues must be approved and currently enrolled in class to attend. All others are welcome. Will meet every week\, same time starting on the posted date above.
URL:https://northstateparent.com/event/loose-leash-walking-seminar/2026-07-18/
LOCATION:Sundial Bridge\, Sacramento River Trail\, Redding\, 96001
CATEGORIES:Animals,Community Event,Free,Outdoors
ATTACH;FMTTYPE=image/png:https://northstateparent.com/wp-content/uploads/2026/04/Screenshot-2026-04-17-at-8.49.59-PM-scaled.png
ORGANIZER;CN="Martin's NorCal Dog Training":MAILTO:martinsnorcal@gmail.com
END:VEVENT
BEGIN:VEVENT
DTSTART;TZID=America/Los_Angeles:20260725T073000
DTEND;TZID=America/Los_Angeles:20260725T083000
DTSTAMP:20260424T203057
CREATED:20260418T035435Z
LAST-MODIFIED:20260418T035545Z
UID:10108804-1784964600-1784968200@northstateparent.com
SUMMARY:Loose Leash Walking Seminar
DESCRIPTION:This a free event. Any dog with behavioral issues must be approved and currently enrolled in class to attend. All others are welcome. Will meet every week\, same time starting on the posted date above.
URL:https://northstateparent.com/event/loose-leash-walking-seminar/2026-07-25/
LOCATION:Sundial Bridge\, Sacramento River Trail\, Redding\, 96001
CATEGORIES:Animals,Community Event,Free,Outdoors
ATTACH;FMTTYPE=image/png:https://northstateparent.com/wp-content/uploads/2026/04/Screenshot-2026-04-17-at-8.49.59-PM-scaled.png
ORGANIZER;CN="Martin's NorCal Dog Training":MAILTO:martinsnorcal@gmail.com
END:VEVENT
END:VCALENDAR