BEGIN:VCALENDAR
VERSION:2.0
PRODID:-//North State Parent magazine - ECPv6.15.20//NONSGML v1.0//EN
CALSCALE:GREGORIAN
METHOD:PUBLISH
X-WR-CALNAME:North State Parent magazine
X-ORIGINAL-URL:https://northstateparent.com
X-WR-CALDESC:Events for North State Parent magazine
REFRESH-INTERVAL;VALUE=DURATION:PT1H
X-Robots-Tag:noindex
X-PUBLISHED-TTL:PT1H
BEGIN:VTIMEZONE
TZID:America/Los_Angeles
BEGIN:DAYLIGHT
TZOFFSETFROM:-0800
TZOFFSETTO:-0700
TZNAME:PDT
DTSTART:20250309T100000
END:DAYLIGHT
BEGIN:STANDARD
TZOFFSETFROM:-0700
TZOFFSETTO:-0800
TZNAME:PST
DTSTART:20251102T090000
END:STANDARD
BEGIN:DAYLIGHT
TZOFFSETFROM:-0800
TZOFFSETTO:-0700
TZNAME:PDT
DTSTART:20260308T100000
END:DAYLIGHT
BEGIN:STANDARD
TZOFFSETFROM:-0700
TZOFFSETTO:-0800
TZNAME:PST
DTSTART:20261101T090000
END:STANDARD
BEGIN:DAYLIGHT
TZOFFSETFROM:-0800
TZOFFSETTO:-0700
TZNAME:PDT
DTSTART:20270314T100000
END:DAYLIGHT
BEGIN:STANDARD
TZOFFSETFROM:-0700
TZOFFSETTO:-0800
TZNAME:PST
DTSTART:20271107T090000
END:STANDARD
END:VTIMEZONE
BEGIN:VEVENT
DTSTART;TZID=America/Los_Angeles:20260516T100000
DTEND;TZID=America/Los_Angeles:20260516T113000
DTSTAMP:20260425T062738
CREATED:20260418T030012Z
LAST-MODIFIED:20260418T030659Z
UID:10108786-1778925600-1778931000@northstateparent.com
SUMMARY:Breastfeeding Support Group
DESCRIPTION:Hello breastfeeding/ pumping parents\, support helpers\, and anyone who works in the field of lactation. Please come join us for a FREE\, monthly breastfeeding support group! We are La Leche League of Greater Redding\, a local chapter of a worldwide breast-feeding support organization: llli.org \nIf you can’t join us for this gathering\, our next meeting will be Saturday\, May 16\, 2026 at 10 am. Same location. \nCome hang out with other breastfeeding parents and their babies & toddlers! \nWhether you are doing great\, and want to make new friends\, or you are someone who is struggling with latching\, pumping\, milk supply\, oral restrictions (ties\,) starting solids\, nursing a toddler or older child\, dealing with pregnancy and breastfeeding/ chestfeeding\, tandem nursing\, nursing multiples\, using donor milk\, adoptive nursing\, nighttime parenting\, preparing to go back to work\, or weaning\, \nWE WELCOME YOU ALL! We are here for you at any point along your breast-feeding journey! \n\nYou can access this group online as well!\nhttp://www.facebook.com/groups/293432464167912/?ref=share_group_link&mibextid=cr9u03\n\nWe support all nursing\, chest feeding\, pumping\, mixed feeding\, and all other ways of feeding our babies human milk including adoptive nursing and the safe use of donor human milk.\n\nWe hope you can join us! If you have any questions\, you may contact your LLL Leaders\, who are trained\, accredited\, community volunteer breastfeeding counselors.\n\nCall/ text or PM with any questions:\nNancy Dellamaria (413)-563-1424\nDestiny Conover (530) 917-9634\nllli.org/
URL:https://northstateparent.com/event/breastfeeding-support-group/2026-05-16/
LOCATION:Family First Maternity Center\, 1796 Churn Crk Rd\, Redding\, 96002\, United States
CATEGORIES:Community Event,Educational,Free,Free Class,Infants
ATTACH;FMTTYPE=image/jpeg:https://northstateparent.com/wp-content/uploads/2025/03/0325-La-Leche-League-USA-scaled.jpg
ORGANIZER;CN="La Leche League of Greater Redding":MAILTO:nancydellamaria@gmail.com
END:VEVENT
END:VCALENDAR