BEGIN:VCALENDAR
VERSION:2.0
PRODID:-//North State Parent magazine - ECPv6.15.20//NONSGML v1.0//EN
CALSCALE:GREGORIAN
METHOD:PUBLISH
X-WR-CALNAME:North State Parent magazine
X-ORIGINAL-URL:https://northstateparent.com
X-WR-CALDESC:Events for North State Parent magazine
REFRESH-INTERVAL;VALUE=DURATION:PT1H
X-Robots-Tag:noindex
X-PUBLISHED-TTL:PT1H
BEGIN:VTIMEZONE
TZID:America/Los_Angeles
BEGIN:DAYLIGHT
TZOFFSETFROM:-0800
TZOFFSETTO:-0700
TZNAME:PDT
DTSTART:20250309T100000
END:DAYLIGHT
BEGIN:STANDARD
TZOFFSETFROM:-0700
TZOFFSETTO:-0800
TZNAME:PST
DTSTART:20251102T090000
END:STANDARD
BEGIN:DAYLIGHT
TZOFFSETFROM:-0800
TZOFFSETTO:-0700
TZNAME:PDT
DTSTART:20260308T100000
END:DAYLIGHT
BEGIN:STANDARD
TZOFFSETFROM:-0700
TZOFFSETTO:-0800
TZNAME:PST
DTSTART:20261101T090000
END:STANDARD
BEGIN:DAYLIGHT
TZOFFSETFROM:-0800
TZOFFSETTO:-0700
TZNAME:PDT
DTSTART:20270314T100000
END:DAYLIGHT
BEGIN:STANDARD
TZOFFSETFROM:-0700
TZOFFSETTO:-0800
TZNAME:PST
DTSTART:20271107T090000
END:STANDARD
END:VTIMEZONE
BEGIN:VEVENT
DTSTART;TZID=America/Los_Angeles:20260424T193000
DTEND;TZID=America/Los_Angeles:20260424T220000
DTSTAMP:20260424T094132
CREATED:20260409T025019Z
LAST-MODIFIED:20260409T025019Z
UID:10104315-1777059000-1777068000@northstateparent.com
SUMMARY:Once Upon a Matress
DESCRIPTION:The Queen has decreed that no one shall marry until Prince Dauntless finds a bride. Try as they might\, no princess can pass the tests given  to them. Then Winifred the Woebegone arrives! Will she pass the Sensitivity Test\, marry her prince and help Lady Larken and Sir Harry get to the altar? Once Upon A Mattress is a hilarious musical spoof of The Princess and The Pea. Set on a wave of wonderful songs\, frenetic dancing and side-splitting laughs\, you’ll never look at this fairy tale the same way again! A fun evening for young & old! \n 
URL:https://northstateparent.com/event/once-upon-a-matress/2026-04-24/
LOCATION:Chico Theater Company\, 166 Eaton Rd\, Chico\, CA\, United States
CATEGORIES:Community Event,Dance,Family Friendly,Performance,Theater
ATTACH;FMTTYPE=image/jpeg:https://northstateparent.com/wp-content/uploads/2026/04/Once-Upon-A-Mattress-Flyer-5.5-x-4.25-in-scaled.jpg
END:VEVENT
BEGIN:VEVENT
DTSTART;TZID=America/Los_Angeles:20260425T193000
DTEND;TZID=America/Los_Angeles:20260425T220000
DTSTAMP:20260424T094132
CREATED:20260409T025019Z
LAST-MODIFIED:20260409T025019Z
UID:10104316-1777145400-1777154400@northstateparent.com
SUMMARY:Once Upon a Matress
DESCRIPTION:The Queen has decreed that no one shall marry until Prince Dauntless finds a bride. Try as they might\, no princess can pass the tests given  to them. Then Winifred the Woebegone arrives! Will she pass the Sensitivity Test\, marry her prince and help Lady Larken and Sir Harry get to the altar? Once Upon A Mattress is a hilarious musical spoof of The Princess and The Pea. Set on a wave of wonderful songs\, frenetic dancing and side-splitting laughs\, you’ll never look at this fairy tale the same way again! A fun evening for young & old! \n 
URL:https://northstateparent.com/event/once-upon-a-matress/2026-04-25/
LOCATION:Chico Theater Company\, 166 Eaton Rd\, Chico\, CA\, United States
CATEGORIES:Community Event,Dance,Family Friendly,Performance,Theater
ATTACH;FMTTYPE=image/jpeg:https://northstateparent.com/wp-content/uploads/2026/04/Once-Upon-A-Mattress-Flyer-5.5-x-4.25-in-scaled.jpg
END:VEVENT
BEGIN:VEVENT
DTSTART;TZID=America/Los_Angeles:20260426T140000
DTEND;TZID=America/Los_Angeles:20260426T170000
DTSTAMP:20260424T094132
CREATED:20260409T025019Z
LAST-MODIFIED:20260409T025019Z
UID:10104317-1777212000-1777222800@northstateparent.com
SUMMARY:Once Upon a Matress
DESCRIPTION:The Queen has decreed that no one shall marry until Prince Dauntless finds a bride. Try as they might\, no princess can pass the tests given  to them. Then Winifred the Woebegone arrives! Will she pass the Sensitivity Test\, marry her prince and help Lady Larken and Sir Harry get to the altar? Once Upon A Mattress is a hilarious musical spoof of The Princess and The Pea. Set on a wave of wonderful songs\, frenetic dancing and side-splitting laughs\, you’ll never look at this fairy tale the same way again! A fun evening for young & old! \n 
URL:https://northstateparent.com/event/once-upon-a-matress/2026-04-26/
LOCATION:Chico Theater Company\, 166 Eaton Rd\, Chico\, CA\, United States
CATEGORIES:Community Event,Dance,Family Friendly,Performance,Theater
ATTACH;FMTTYPE=image/jpeg:https://northstateparent.com/wp-content/uploads/2026/04/Once-Upon-A-Mattress-Flyer-5.5-x-4.25-in-scaled.jpg
END:VEVENT
BEGIN:VEVENT
DTSTART;TZID=America/Los_Angeles:20260430T193000
DTEND;TZID=America/Los_Angeles:20260430T220000
DTSTAMP:20260424T094132
CREATED:20260409T025019Z
LAST-MODIFIED:20260409T025019Z
UID:10104318-1777577400-1777586400@northstateparent.com
SUMMARY:Once Upon a Matress
DESCRIPTION:The Queen has decreed that no one shall marry until Prince Dauntless finds a bride. Try as they might\, no princess can pass the tests given  to them. Then Winifred the Woebegone arrives! Will she pass the Sensitivity Test\, marry her prince and help Lady Larken and Sir Harry get to the altar? Once Upon A Mattress is a hilarious musical spoof of The Princess and The Pea. Set on a wave of wonderful songs\, frenetic dancing and side-splitting laughs\, you’ll never look at this fairy tale the same way again! A fun evening for young & old! \n 
URL:https://northstateparent.com/event/once-upon-a-matress/2026-04-30/
LOCATION:Chico Theater Company\, 166 Eaton Rd\, Chico\, CA\, United States
CATEGORIES:Community Event,Dance,Family Friendly,Performance,Theater
ATTACH;FMTTYPE=image/jpeg:https://northstateparent.com/wp-content/uploads/2026/04/Once-Upon-A-Mattress-Flyer-5.5-x-4.25-in-scaled.jpg
END:VEVENT
BEGIN:VEVENT
DTSTART;TZID=America/Los_Angeles:20260501T193000
DTEND;TZID=America/Los_Angeles:20260501T220000
DTSTAMP:20260424T094132
CREATED:20260409T025019Z
LAST-MODIFIED:20260409T025019Z
UID:10104319-1777663800-1777672800@northstateparent.com
SUMMARY:Once Upon a Matress
DESCRIPTION:The Queen has decreed that no one shall marry until Prince Dauntless finds a bride. Try as they might\, no princess can pass the tests given  to them. Then Winifred the Woebegone arrives! Will she pass the Sensitivity Test\, marry her prince and help Lady Larken and Sir Harry get to the altar? Once Upon A Mattress is a hilarious musical spoof of The Princess and The Pea. Set on a wave of wonderful songs\, frenetic dancing and side-splitting laughs\, you’ll never look at this fairy tale the same way again! A fun evening for young & old! \n 
URL:https://northstateparent.com/event/once-upon-a-matress/2026-05-01/
LOCATION:Chico Theater Company\, 166 Eaton Rd\, Chico\, CA\, United States
CATEGORIES:Community Event,Dance,Family Friendly,Performance,Theater
ATTACH;FMTTYPE=image/jpeg:https://northstateparent.com/wp-content/uploads/2026/04/Once-Upon-A-Mattress-Flyer-5.5-x-4.25-in-scaled.jpg
END:VEVENT
BEGIN:VEVENT
DTSTART;TZID=America/Los_Angeles:20260502T193000
DTEND;TZID=America/Los_Angeles:20260502T220000
DTSTAMP:20260424T094132
CREATED:20260409T025019Z
LAST-MODIFIED:20260409T025019Z
UID:10104320-1777750200-1777759200@northstateparent.com
SUMMARY:Once Upon a Matress
DESCRIPTION:The Queen has decreed that no one shall marry until Prince Dauntless finds a bride. Try as they might\, no princess can pass the tests given  to them. Then Winifred the Woebegone arrives! Will she pass the Sensitivity Test\, marry her prince and help Lady Larken and Sir Harry get to the altar? Once Upon A Mattress is a hilarious musical spoof of The Princess and The Pea. Set on a wave of wonderful songs\, frenetic dancing and side-splitting laughs\, you’ll never look at this fairy tale the same way again! A fun evening for young & old! \n 
URL:https://northstateparent.com/event/once-upon-a-matress/2026-05-02/
LOCATION:Chico Theater Company\, 166 Eaton Rd\, Chico\, CA\, United States
CATEGORIES:Community Event,Dance,Family Friendly,Performance,Theater
ATTACH;FMTTYPE=image/jpeg:https://northstateparent.com/wp-content/uploads/2026/04/Once-Upon-A-Mattress-Flyer-5.5-x-4.25-in-scaled.jpg
END:VEVENT
BEGIN:VEVENT
DTSTART;TZID=America/Los_Angeles:20260503T140000
DTEND;TZID=America/Los_Angeles:20260503T170000
DTSTAMP:20260424T094132
CREATED:20260409T025019Z
LAST-MODIFIED:20260409T025019Z
UID:10104321-1777816800-1777827600@northstateparent.com
SUMMARY:Once Upon a Matress
DESCRIPTION:The Queen has decreed that no one shall marry until Prince Dauntless finds a bride. Try as they might\, no princess can pass the tests given  to them. Then Winifred the Woebegone arrives! Will she pass the Sensitivity Test\, marry her prince and help Lady Larken and Sir Harry get to the altar? Once Upon A Mattress is a hilarious musical spoof of The Princess and The Pea. Set on a wave of wonderful songs\, frenetic dancing and side-splitting laughs\, you’ll never look at this fairy tale the same way again! A fun evening for young & old! \n 
URL:https://northstateparent.com/event/once-upon-a-matress/2026-05-03/
LOCATION:Chico Theater Company\, 166 Eaton Rd\, Chico\, CA\, United States
CATEGORIES:Community Event,Dance,Family Friendly,Performance,Theater
ATTACH;FMTTYPE=image/jpeg:https://northstateparent.com/wp-content/uploads/2026/04/Once-Upon-A-Mattress-Flyer-5.5-x-4.25-in-scaled.jpg
END:VEVENT
BEGIN:VEVENT
DTSTART;TZID=America/Los_Angeles:20260507T193000
DTEND;TZID=America/Los_Angeles:20260507T220000
DTSTAMP:20260424T094132
CREATED:20260409T025019Z
LAST-MODIFIED:20260409T025019Z
UID:10104322-1778182200-1778191200@northstateparent.com
SUMMARY:Once Upon a Matress
DESCRIPTION:The Queen has decreed that no one shall marry until Prince Dauntless finds a bride. Try as they might\, no princess can pass the tests given  to them. Then Winifred the Woebegone arrives! Will she pass the Sensitivity Test\, marry her prince and help Lady Larken and Sir Harry get to the altar? Once Upon A Mattress is a hilarious musical spoof of The Princess and The Pea. Set on a wave of wonderful songs\, frenetic dancing and side-splitting laughs\, you’ll never look at this fairy tale the same way again! A fun evening for young & old! \n 
URL:https://northstateparent.com/event/once-upon-a-matress/2026-05-07/
LOCATION:Chico Theater Company\, 166 Eaton Rd\, Chico\, CA\, United States
CATEGORIES:Community Event,Dance,Family Friendly,Performance,Theater
ATTACH;FMTTYPE=image/jpeg:https://northstateparent.com/wp-content/uploads/2026/04/Once-Upon-A-Mattress-Flyer-5.5-x-4.25-in-scaled.jpg
END:VEVENT
BEGIN:VEVENT
DTSTART;TZID=America/Los_Angeles:20260508T193000
DTEND;TZID=America/Los_Angeles:20260508T220000
DTSTAMP:20260424T094132
CREATED:20260409T025019Z
LAST-MODIFIED:20260409T025019Z
UID:10104323-1778268600-1778277600@northstateparent.com
SUMMARY:Once Upon a Matress
DESCRIPTION:The Queen has decreed that no one shall marry until Prince Dauntless finds a bride. Try as they might\, no princess can pass the tests given  to them. Then Winifred the Woebegone arrives! Will she pass the Sensitivity Test\, marry her prince and help Lady Larken and Sir Harry get to the altar? Once Upon A Mattress is a hilarious musical spoof of The Princess and The Pea. Set on a wave of wonderful songs\, frenetic dancing and side-splitting laughs\, you’ll never look at this fairy tale the same way again! A fun evening for young & old! \n 
URL:https://northstateparent.com/event/once-upon-a-matress/2026-05-08/
LOCATION:Chico Theater Company\, 166 Eaton Rd\, Chico\, CA\, United States
CATEGORIES:Community Event,Dance,Family Friendly,Performance,Theater
ATTACH;FMTTYPE=image/jpeg:https://northstateparent.com/wp-content/uploads/2026/04/Once-Upon-A-Mattress-Flyer-5.5-x-4.25-in-scaled.jpg
END:VEVENT
BEGIN:VEVENT
DTSTART;TZID=America/Los_Angeles:20260509T193000
DTEND;TZID=America/Los_Angeles:20260509T220000
DTSTAMP:20260424T094132
CREATED:20260409T025019Z
LAST-MODIFIED:20260409T025019Z
UID:10104324-1778355000-1778364000@northstateparent.com
SUMMARY:Once Upon a Matress
DESCRIPTION:The Queen has decreed that no one shall marry until Prince Dauntless finds a bride. Try as they might\, no princess can pass the tests given  to them. Then Winifred the Woebegone arrives! Will she pass the Sensitivity Test\, marry her prince and help Lady Larken and Sir Harry get to the altar? Once Upon A Mattress is a hilarious musical spoof of The Princess and The Pea. Set on a wave of wonderful songs\, frenetic dancing and side-splitting laughs\, you’ll never look at this fairy tale the same way again! A fun evening for young & old! \n 
URL:https://northstateparent.com/event/once-upon-a-matress/2026-05-09/
LOCATION:Chico Theater Company\, 166 Eaton Rd\, Chico\, CA\, United States
CATEGORIES:Community Event,Dance,Family Friendly,Performance,Theater
ATTACH;FMTTYPE=image/jpeg:https://northstateparent.com/wp-content/uploads/2026/04/Once-Upon-A-Mattress-Flyer-5.5-x-4.25-in-scaled.jpg
END:VEVENT
BEGIN:VEVENT
DTSTART;TZID=America/Los_Angeles:20260510T140000
DTEND;TZID=America/Los_Angeles:20260510T170000
DTSTAMP:20260424T094132
CREATED:20260409T025019Z
LAST-MODIFIED:20260409T025019Z
UID:10104325-1778421600-1778432400@northstateparent.com
SUMMARY:Once Upon a Matress
DESCRIPTION:The Queen has decreed that no one shall marry until Prince Dauntless finds a bride. Try as they might\, no princess can pass the tests given  to them. Then Winifred the Woebegone arrives! Will she pass the Sensitivity Test\, marry her prince and help Lady Larken and Sir Harry get to the altar? Once Upon A Mattress is a hilarious musical spoof of The Princess and The Pea. Set on a wave of wonderful songs\, frenetic dancing and side-splitting laughs\, you’ll never look at this fairy tale the same way again! A fun evening for young & old! \n 
URL:https://northstateparent.com/event/once-upon-a-matress/2026-05-10/
LOCATION:Chico Theater Company\, 166 Eaton Rd\, Chico\, CA\, United States
CATEGORIES:Community Event,Dance,Family Friendly,Performance,Theater
ATTACH;FMTTYPE=image/jpeg:https://northstateparent.com/wp-content/uploads/2026/04/Once-Upon-A-Mattress-Flyer-5.5-x-4.25-in-scaled.jpg
END:VEVENT
BEGIN:VEVENT
DTSTART;TZID=America/Los_Angeles:20260514T193000
DTEND;TZID=America/Los_Angeles:20260514T220000
DTSTAMP:20260424T094132
CREATED:20260409T025019Z
LAST-MODIFIED:20260409T025019Z
UID:10104326-1778787000-1778796000@northstateparent.com
SUMMARY:Once Upon a Matress
DESCRIPTION:The Queen has decreed that no one shall marry until Prince Dauntless finds a bride. Try as they might\, no princess can pass the tests given  to them. Then Winifred the Woebegone arrives! Will she pass the Sensitivity Test\, marry her prince and help Lady Larken and Sir Harry get to the altar? Once Upon A Mattress is a hilarious musical spoof of The Princess and The Pea. Set on a wave of wonderful songs\, frenetic dancing and side-splitting laughs\, you’ll never look at this fairy tale the same way again! A fun evening for young & old! \n 
URL:https://northstateparent.com/event/once-upon-a-matress/2026-05-14/
LOCATION:Chico Theater Company\, 166 Eaton Rd\, Chico\, CA\, United States
CATEGORIES:Community Event,Dance,Family Friendly,Performance,Theater
ATTACH;FMTTYPE=image/jpeg:https://northstateparent.com/wp-content/uploads/2026/04/Once-Upon-A-Mattress-Flyer-5.5-x-4.25-in-scaled.jpg
END:VEVENT
BEGIN:VEVENT
DTSTART;TZID=America/Los_Angeles:20260515T193000
DTEND;TZID=America/Los_Angeles:20260515T220000
DTSTAMP:20260424T094132
CREATED:20260409T025019Z
LAST-MODIFIED:20260409T025019Z
UID:10104327-1778873400-1778882400@northstateparent.com
SUMMARY:Once Upon a Matress
DESCRIPTION:The Queen has decreed that no one shall marry until Prince Dauntless finds a bride. Try as they might\, no princess can pass the tests given  to them. Then Winifred the Woebegone arrives! Will she pass the Sensitivity Test\, marry her prince and help Lady Larken and Sir Harry get to the altar? Once Upon A Mattress is a hilarious musical spoof of The Princess and The Pea. Set on a wave of wonderful songs\, frenetic dancing and side-splitting laughs\, you’ll never look at this fairy tale the same way again! A fun evening for young & old! \n 
URL:https://northstateparent.com/event/once-upon-a-matress/2026-05-15/
LOCATION:Chico Theater Company\, 166 Eaton Rd\, Chico\, CA\, United States
CATEGORIES:Community Event,Dance,Family Friendly,Performance,Theater
ATTACH;FMTTYPE=image/jpeg:https://northstateparent.com/wp-content/uploads/2026/04/Once-Upon-A-Mattress-Flyer-5.5-x-4.25-in-scaled.jpg
END:VEVENT
BEGIN:VEVENT
DTSTART;TZID=America/Los_Angeles:20260516T193000
DTEND;TZID=America/Los_Angeles:20260516T220000
DTSTAMP:20260424T094132
CREATED:20260409T025019Z
LAST-MODIFIED:20260409T025019Z
UID:10104328-1778959800-1778968800@northstateparent.com
SUMMARY:Once Upon a Matress
DESCRIPTION:The Queen has decreed that no one shall marry until Prince Dauntless finds a bride. Try as they might\, no princess can pass the tests given  to them. Then Winifred the Woebegone arrives! Will she pass the Sensitivity Test\, marry her prince and help Lady Larken and Sir Harry get to the altar? Once Upon A Mattress is a hilarious musical spoof of The Princess and The Pea. Set on a wave of wonderful songs\, frenetic dancing and side-splitting laughs\, you’ll never look at this fairy tale the same way again! A fun evening for young & old! \n 
URL:https://northstateparent.com/event/once-upon-a-matress/2026-05-16/
LOCATION:Chico Theater Company\, 166 Eaton Rd\, Chico\, CA\, United States
CATEGORIES:Community Event,Dance,Family Friendly,Performance,Theater
ATTACH;FMTTYPE=image/jpeg:https://northstateparent.com/wp-content/uploads/2026/04/Once-Upon-A-Mattress-Flyer-5.5-x-4.25-in-scaled.jpg
END:VEVENT
BEGIN:VEVENT
DTSTART;TZID=America/Los_Angeles:20260517T140000
DTEND;TZID=America/Los_Angeles:20260517T170000
DTSTAMP:20260424T094132
CREATED:20260409T025019Z
LAST-MODIFIED:20260409T025019Z
UID:10104329-1779026400-1779037200@northstateparent.com
SUMMARY:Once Upon a Matress
DESCRIPTION:The Queen has decreed that no one shall marry until Prince Dauntless finds a bride. Try as they might\, no princess can pass the tests given  to them. Then Winifred the Woebegone arrives! Will she pass the Sensitivity Test\, marry her prince and help Lady Larken and Sir Harry get to the altar? Once Upon A Mattress is a hilarious musical spoof of The Princess and The Pea. Set on a wave of wonderful songs\, frenetic dancing and side-splitting laughs\, you’ll never look at this fairy tale the same way again! A fun evening for young & old! \n 
URL:https://northstateparent.com/event/once-upon-a-matress/2026-05-17/
LOCATION:Chico Theater Company\, 166 Eaton Rd\, Chico\, CA\, United States
CATEGORIES:Community Event,Dance,Family Friendly,Performance,Theater
ATTACH;FMTTYPE=image/jpeg:https://northstateparent.com/wp-content/uploads/2026/04/Once-Upon-A-Mattress-Flyer-5.5-x-4.25-in-scaled.jpg
END:VEVENT
END:VCALENDAR