BEGIN:VCALENDAR
VERSION:2.0
PRODID:-//North State Parent magazine - ECPv6.15.20//NONSGML v1.0//EN
CALSCALE:GREGORIAN
METHOD:PUBLISH
X-WR-CALNAME:North State Parent magazine
X-ORIGINAL-URL:https://northstateparent.com
X-WR-CALDESC:Events for North State Parent magazine
REFRESH-INTERVAL;VALUE=DURATION:PT1H
X-Robots-Tag:noindex
X-PUBLISHED-TTL:PT1H
BEGIN:VTIMEZONE
TZID:America/Los_Angeles
BEGIN:DAYLIGHT
TZOFFSETFROM:-0800
TZOFFSETTO:-0700
TZNAME:PDT
DTSTART:20250309T100000
END:DAYLIGHT
BEGIN:STANDARD
TZOFFSETFROM:-0700
TZOFFSETTO:-0800
TZNAME:PST
DTSTART:20251102T090000
END:STANDARD
BEGIN:DAYLIGHT
TZOFFSETFROM:-0800
TZOFFSETTO:-0700
TZNAME:PDT
DTSTART:20260308T100000
END:DAYLIGHT
BEGIN:STANDARD
TZOFFSETFROM:-0700
TZOFFSETTO:-0800
TZNAME:PST
DTSTART:20261101T090000
END:STANDARD
BEGIN:DAYLIGHT
TZOFFSETFROM:-0800
TZOFFSETTO:-0700
TZNAME:PDT
DTSTART:20270314T100000
END:DAYLIGHT
BEGIN:STANDARD
TZOFFSETFROM:-0700
TZOFFSETTO:-0800
TZNAME:PST
DTSTART:20271107T090000
END:STANDARD
END:VTIMEZONE
BEGIN:VEVENT
DTSTART;TZID=America/Los_Angeles:20260428T091500
DTEND;TZID=America/Los_Angeles:20260428T113000
DTSTAMP:20260425T045844
CREATED:20260407T161740Z
LAST-MODIFIED:20260407T161740Z
UID:10104208-1777367700-1777375800@northstateparent.com
SUMMARY:Parenting A Second Time Around
DESCRIPTION:Parenting A Second Time Around (PASTA) is an award winning curriculum developed by Cornell University to address the unique needs and support relative caregivers raising children. These classes are designed for Grandparents and other relative caregivers. \nThis free\, eight-week program provides insights\, strategies\, and a welcoming community to help you build a strong\, supportive family environment. We will focus on cultivating empathy\, nurturing through grief and loss\, child development and individual differences\, discipline with dignity\, selfcare techniques\, legal concerns\, and navigating the teen years. Childcare is included for both sessions. Facilitated by Lori Keyser-Boswell. \n\n𝗧𝘂𝗲𝘀𝗱𝗮𝘆\, 𝗔𝗽𝗿𝗶𝗹 𝟮𝟭𝘀𝘁 – 𝗝𝘂𝗻𝗲 𝟵𝘁𝗵\n𝟵:𝟭𝟱 – 𝟭𝟬:𝟭𝟱𝗮𝗺 — Walk together\, build friends & enjoy a light brunch!\n𝟭𝟬:𝟭𝟱 – 𝟭𝟭:𝟯𝟬𝗮𝗺 — PASTA class\n__________________\n𝗼𝗿\, 𝗶𝗳 𝗺𝗼𝗿𝗲 𝗰𝗼𝗻𝘃𝗲𝗻𝗶𝗲𝗻𝘁 — 𝘀𝗶𝗴𝗻-𝘂𝗽 𝗳𝗼𝗿 𝘁𝗵𝗲 𝗰𝗹𝗮𝘀𝘀 𝗮𝘁 𝘁𝗵𝗶𝘀 𝘁𝗶𝗺𝗲:\n𝟱:𝟯𝟬 – 𝟳:𝟭𝟱𝗽𝗺 — PASTA class (family dinner included)\n\n\n\nRegister at your favorite time frame at tinyurl.com/Pre-Registration-Series or call 530.918.7222 and sign-up over the phone!
URL:https://northstateparent.com/event/parenting-a-second-time-around/2026-04-28/
LOCATION:Siskiyou Family YMCA\, 350 N Foothill Dr\, Yreka\, CA\, United States
CATEGORIES:Community Event,Educational,Family Friendly,Foster Care Community,Free,Free Class,Parenting,Support,Support Group,Teens
ATTACH;FMTTYPE=image/png:https://northstateparent.com/wp-content/uploads/2026/04/Screenshot-2026-04-07-at-9.05.05-AM-scaled.png
ORGANIZER;CN="First 5 Siskiyou":MAILTO:paula@first5siskiyou.org
END:VEVENT
BEGIN:VEVENT
DTSTART;TZID=America/Los_Angeles:20260428T173000
DTEND;TZID=America/Los_Angeles:20260428T191500
DTSTAMP:20260425T045844
CREATED:20260407T162011Z
LAST-MODIFIED:20260407T162011Z
UID:10104224-1777397400-1777403700@northstateparent.com
SUMMARY:Parenting A Second Time Around
DESCRIPTION:Parenting A Second Time Around (PASTA) is an award winning curriculum developed by Cornell University to address the unique needs and support relative caregivers raising children. These classes are designed for Grandparents and other relative caregivers. \nThis free\, eight-week program provides insights\, strategies\, and a welcoming community to help you build a strong\, supportive family environment. We will focus on cultivating empathy\, nurturing through grief and loss\, child development and individual differences\, discipline with dignity\, selfcare techniques\, legal concerns\, and navigating the teen years. Childcare is included for both sessions. Facilitated by Lori Keyser-Boswell. \n\n𝗧𝘂𝗲𝘀𝗱𝗮𝘆\, 𝗔𝗽𝗿𝗶𝗹 𝟮𝟭𝘀𝘁 – 𝗝𝘂𝗻𝗲 𝟵𝘁𝗵\n𝟵:𝟭𝟱 – 𝟭𝟬:𝟭𝟱𝗮𝗺 — Walk together\, build friends & enjoy a light brunch!\n𝟭𝟬:𝟭𝟱 – 𝟭𝟭:𝟯𝟬𝗮𝗺 — PASTA class\n__________________\n𝗼𝗿\, 𝗶𝗳 𝗺𝗼𝗿𝗲 𝗰𝗼𝗻𝘃𝗲𝗻𝗶𝗲𝗻𝘁 — 𝘀𝗶𝗴𝗻-𝘂𝗽 𝗳𝗼𝗿 𝘁𝗵𝗲 𝗰𝗹𝗮𝘀𝘀 𝗮𝘁 𝘁𝗵𝗶𝘀 𝘁𝗶𝗺𝗲:\n𝟱:𝟯𝟬 – 𝟳:𝟭𝟱𝗽𝗺 — PASTA class (family dinner included)\n\n\n\nRegister at your favorite time frame at tinyurl.com/Pre-Registration-Series or call 530.918.7222 and sign-up over the phone!
URL:https://northstateparent.com/event/parenting-a-second-time-around-2/2026-04-28/
LOCATION:Siskiyou Family YMCA\, 350 N Foothill Dr\, Yreka\, CA\, United States
CATEGORIES:Community Event,Educational,Family Friendly,Foster Care Community,Free,Free Class,Parenting,Support,Support Group,Teens
ATTACH;FMTTYPE=image/png:https://northstateparent.com/wp-content/uploads/2026/04/Screenshot-2026-04-07-at-9.05.05-AM-scaled.png
ORGANIZER;CN="First 5 Siskiyou":MAILTO:paula@first5siskiyou.org
END:VEVENT
BEGIN:VEVENT
DTSTART;TZID=America/Los_Angeles:20260505T091500
DTEND;TZID=America/Los_Angeles:20260505T113000
DTSTAMP:20260425T045844
CREATED:20260407T161740Z
LAST-MODIFIED:20260407T161740Z
UID:10104209-1777972500-1777980600@northstateparent.com
SUMMARY:Parenting A Second Time Around
DESCRIPTION:Parenting A Second Time Around (PASTA) is an award winning curriculum developed by Cornell University to address the unique needs and support relative caregivers raising children. These classes are designed for Grandparents and other relative caregivers. \nThis free\, eight-week program provides insights\, strategies\, and a welcoming community to help you build a strong\, supportive family environment. We will focus on cultivating empathy\, nurturing through grief and loss\, child development and individual differences\, discipline with dignity\, selfcare techniques\, legal concerns\, and navigating the teen years. Childcare is included for both sessions. Facilitated by Lori Keyser-Boswell. \n\n𝗧𝘂𝗲𝘀𝗱𝗮𝘆\, 𝗔𝗽𝗿𝗶𝗹 𝟮𝟭𝘀𝘁 – 𝗝𝘂𝗻𝗲 𝟵𝘁𝗵\n𝟵:𝟭𝟱 – 𝟭𝟬:𝟭𝟱𝗮𝗺 — Walk together\, build friends & enjoy a light brunch!\n𝟭𝟬:𝟭𝟱 – 𝟭𝟭:𝟯𝟬𝗮𝗺 — PASTA class\n__________________\n𝗼𝗿\, 𝗶𝗳 𝗺𝗼𝗿𝗲 𝗰𝗼𝗻𝘃𝗲𝗻𝗶𝗲𝗻𝘁 — 𝘀𝗶𝗴𝗻-𝘂𝗽 𝗳𝗼𝗿 𝘁𝗵𝗲 𝗰𝗹𝗮𝘀𝘀 𝗮𝘁 𝘁𝗵𝗶𝘀 𝘁𝗶𝗺𝗲:\n𝟱:𝟯𝟬 – 𝟳:𝟭𝟱𝗽𝗺 — PASTA class (family dinner included)\n\n\n\nRegister at your favorite time frame at tinyurl.com/Pre-Registration-Series or call 530.918.7222 and sign-up over the phone!
URL:https://northstateparent.com/event/parenting-a-second-time-around/2026-05-05/
LOCATION:Siskiyou Family YMCA\, 350 N Foothill Dr\, Yreka\, CA\, United States
CATEGORIES:Community Event,Educational,Family Friendly,Foster Care Community,Free,Free Class,Parenting,Support,Support Group,Teens
ATTACH;FMTTYPE=image/png:https://northstateparent.com/wp-content/uploads/2026/04/Screenshot-2026-04-07-at-9.05.05-AM-scaled.png
ORGANIZER;CN="First 5 Siskiyou":MAILTO:paula@first5siskiyou.org
END:VEVENT
BEGIN:VEVENT
DTSTART;TZID=America/Los_Angeles:20260505T173000
DTEND;TZID=America/Los_Angeles:20260505T191500
DTSTAMP:20260425T045844
CREATED:20260407T162011Z
LAST-MODIFIED:20260407T162011Z
UID:10104225-1778002200-1778008500@northstateparent.com
SUMMARY:Parenting A Second Time Around
DESCRIPTION:Parenting A Second Time Around (PASTA) is an award winning curriculum developed by Cornell University to address the unique needs and support relative caregivers raising children. These classes are designed for Grandparents and other relative caregivers. \nThis free\, eight-week program provides insights\, strategies\, and a welcoming community to help you build a strong\, supportive family environment. We will focus on cultivating empathy\, nurturing through grief and loss\, child development and individual differences\, discipline with dignity\, selfcare techniques\, legal concerns\, and navigating the teen years. Childcare is included for both sessions. Facilitated by Lori Keyser-Boswell. \n\n𝗧𝘂𝗲𝘀𝗱𝗮𝘆\, 𝗔𝗽𝗿𝗶𝗹 𝟮𝟭𝘀𝘁 – 𝗝𝘂𝗻𝗲 𝟵𝘁𝗵\n𝟵:𝟭𝟱 – 𝟭𝟬:𝟭𝟱𝗮𝗺 — Walk together\, build friends & enjoy a light brunch!\n𝟭𝟬:𝟭𝟱 – 𝟭𝟭:𝟯𝟬𝗮𝗺 — PASTA class\n__________________\n𝗼𝗿\, 𝗶𝗳 𝗺𝗼𝗿𝗲 𝗰𝗼𝗻𝘃𝗲𝗻𝗶𝗲𝗻𝘁 — 𝘀𝗶𝗴𝗻-𝘂𝗽 𝗳𝗼𝗿 𝘁𝗵𝗲 𝗰𝗹𝗮𝘀𝘀 𝗮𝘁 𝘁𝗵𝗶𝘀 𝘁𝗶𝗺𝗲:\n𝟱:𝟯𝟬 – 𝟳:𝟭𝟱𝗽𝗺 — PASTA class (family dinner included)\n\n\n\nRegister at your favorite time frame at tinyurl.com/Pre-Registration-Series or call 530.918.7222 and sign-up over the phone!
URL:https://northstateparent.com/event/parenting-a-second-time-around-2/2026-05-05/
LOCATION:Siskiyou Family YMCA\, 350 N Foothill Dr\, Yreka\, CA\, United States
CATEGORIES:Community Event,Educational,Family Friendly,Foster Care Community,Free,Free Class,Parenting,Support,Support Group,Teens
ATTACH;FMTTYPE=image/png:https://northstateparent.com/wp-content/uploads/2026/04/Screenshot-2026-04-07-at-9.05.05-AM-scaled.png
ORGANIZER;CN="First 5 Siskiyou":MAILTO:paula@first5siskiyou.org
END:VEVENT
BEGIN:VEVENT
DTSTART;TZID=America/Los_Angeles:20260512T091500
DTEND;TZID=America/Los_Angeles:20260512T113000
DTSTAMP:20260425T045844
CREATED:20260407T161740Z
LAST-MODIFIED:20260407T161740Z
UID:10104210-1778577300-1778585400@northstateparent.com
SUMMARY:Parenting A Second Time Around
DESCRIPTION:Parenting A Second Time Around (PASTA) is an award winning curriculum developed by Cornell University to address the unique needs and support relative caregivers raising children. These classes are designed for Grandparents and other relative caregivers. \nThis free\, eight-week program provides insights\, strategies\, and a welcoming community to help you build a strong\, supportive family environment. We will focus on cultivating empathy\, nurturing through grief and loss\, child development and individual differences\, discipline with dignity\, selfcare techniques\, legal concerns\, and navigating the teen years. Childcare is included for both sessions. Facilitated by Lori Keyser-Boswell. \n\n𝗧𝘂𝗲𝘀𝗱𝗮𝘆\, 𝗔𝗽𝗿𝗶𝗹 𝟮𝟭𝘀𝘁 – 𝗝𝘂𝗻𝗲 𝟵𝘁𝗵\n𝟵:𝟭𝟱 – 𝟭𝟬:𝟭𝟱𝗮𝗺 — Walk together\, build friends & enjoy a light brunch!\n𝟭𝟬:𝟭𝟱 – 𝟭𝟭:𝟯𝟬𝗮𝗺 — PASTA class\n__________________\n𝗼𝗿\, 𝗶𝗳 𝗺𝗼𝗿𝗲 𝗰𝗼𝗻𝘃𝗲𝗻𝗶𝗲𝗻𝘁 — 𝘀𝗶𝗴𝗻-𝘂𝗽 𝗳𝗼𝗿 𝘁𝗵𝗲 𝗰𝗹𝗮𝘀𝘀 𝗮𝘁 𝘁𝗵𝗶𝘀 𝘁𝗶𝗺𝗲:\n𝟱:𝟯𝟬 – 𝟳:𝟭𝟱𝗽𝗺 — PASTA class (family dinner included)\n\n\n\nRegister at your favorite time frame at tinyurl.com/Pre-Registration-Series or call 530.918.7222 and sign-up over the phone!
URL:https://northstateparent.com/event/parenting-a-second-time-around/2026-05-12/
LOCATION:Siskiyou Family YMCA\, 350 N Foothill Dr\, Yreka\, CA\, United States
CATEGORIES:Community Event,Educational,Family Friendly,Foster Care Community,Free,Free Class,Parenting,Support,Support Group,Teens
ATTACH;FMTTYPE=image/png:https://northstateparent.com/wp-content/uploads/2026/04/Screenshot-2026-04-07-at-9.05.05-AM-scaled.png
ORGANIZER;CN="First 5 Siskiyou":MAILTO:paula@first5siskiyou.org
END:VEVENT
BEGIN:VEVENT
DTSTART;TZID=America/Los_Angeles:20260512T173000
DTEND;TZID=America/Los_Angeles:20260512T191500
DTSTAMP:20260425T045844
CREATED:20260407T162011Z
LAST-MODIFIED:20260407T162011Z
UID:10104226-1778607000-1778613300@northstateparent.com
SUMMARY:Parenting A Second Time Around
DESCRIPTION:Parenting A Second Time Around (PASTA) is an award winning curriculum developed by Cornell University to address the unique needs and support relative caregivers raising children. These classes are designed for Grandparents and other relative caregivers. \nThis free\, eight-week program provides insights\, strategies\, and a welcoming community to help you build a strong\, supportive family environment. We will focus on cultivating empathy\, nurturing through grief and loss\, child development and individual differences\, discipline with dignity\, selfcare techniques\, legal concerns\, and navigating the teen years. Childcare is included for both sessions. Facilitated by Lori Keyser-Boswell. \n\n𝗧𝘂𝗲𝘀𝗱𝗮𝘆\, 𝗔𝗽𝗿𝗶𝗹 𝟮𝟭𝘀𝘁 – 𝗝𝘂𝗻𝗲 𝟵𝘁𝗵\n𝟵:𝟭𝟱 – 𝟭𝟬:𝟭𝟱𝗮𝗺 — Walk together\, build friends & enjoy a light brunch!\n𝟭𝟬:𝟭𝟱 – 𝟭𝟭:𝟯𝟬𝗮𝗺 — PASTA class\n__________________\n𝗼𝗿\, 𝗶𝗳 𝗺𝗼𝗿𝗲 𝗰𝗼𝗻𝘃𝗲𝗻𝗶𝗲𝗻𝘁 — 𝘀𝗶𝗴𝗻-𝘂𝗽 𝗳𝗼𝗿 𝘁𝗵𝗲 𝗰𝗹𝗮𝘀𝘀 𝗮𝘁 𝘁𝗵𝗶𝘀 𝘁𝗶𝗺𝗲:\n𝟱:𝟯𝟬 – 𝟳:𝟭𝟱𝗽𝗺 — PASTA class (family dinner included)\n\n\n\nRegister at your favorite time frame at tinyurl.com/Pre-Registration-Series or call 530.918.7222 and sign-up over the phone!
URL:https://northstateparent.com/event/parenting-a-second-time-around-2/2026-05-12/
LOCATION:Siskiyou Family YMCA\, 350 N Foothill Dr\, Yreka\, CA\, United States
CATEGORIES:Community Event,Educational,Family Friendly,Foster Care Community,Free,Free Class,Parenting,Support,Support Group,Teens
ATTACH;FMTTYPE=image/png:https://northstateparent.com/wp-content/uploads/2026/04/Screenshot-2026-04-07-at-9.05.05-AM-scaled.png
ORGANIZER;CN="First 5 Siskiyou":MAILTO:paula@first5siskiyou.org
END:VEVENT
BEGIN:VEVENT
DTSTART;TZID=America/Los_Angeles:20260519T091500
DTEND;TZID=America/Los_Angeles:20260519T113000
DTSTAMP:20260425T045844
CREATED:20260407T161740Z
LAST-MODIFIED:20260407T161740Z
UID:10104211-1779182100-1779190200@northstateparent.com
SUMMARY:Parenting A Second Time Around
DESCRIPTION:Parenting A Second Time Around (PASTA) is an award winning curriculum developed by Cornell University to address the unique needs and support relative caregivers raising children. These classes are designed for Grandparents and other relative caregivers. \nThis free\, eight-week program provides insights\, strategies\, and a welcoming community to help you build a strong\, supportive family environment. We will focus on cultivating empathy\, nurturing through grief and loss\, child development and individual differences\, discipline with dignity\, selfcare techniques\, legal concerns\, and navigating the teen years. Childcare is included for both sessions. Facilitated by Lori Keyser-Boswell. \n\n𝗧𝘂𝗲𝘀𝗱𝗮𝘆\, 𝗔𝗽𝗿𝗶𝗹 𝟮𝟭𝘀𝘁 – 𝗝𝘂𝗻𝗲 𝟵𝘁𝗵\n𝟵:𝟭𝟱 – 𝟭𝟬:𝟭𝟱𝗮𝗺 — Walk together\, build friends & enjoy a light brunch!\n𝟭𝟬:𝟭𝟱 – 𝟭𝟭:𝟯𝟬𝗮𝗺 — PASTA class\n__________________\n𝗼𝗿\, 𝗶𝗳 𝗺𝗼𝗿𝗲 𝗰𝗼𝗻𝘃𝗲𝗻𝗶𝗲𝗻𝘁 — 𝘀𝗶𝗴𝗻-𝘂𝗽 𝗳𝗼𝗿 𝘁𝗵𝗲 𝗰𝗹𝗮𝘀𝘀 𝗮𝘁 𝘁𝗵𝗶𝘀 𝘁𝗶𝗺𝗲:\n𝟱:𝟯𝟬 – 𝟳:𝟭𝟱𝗽𝗺 — PASTA class (family dinner included)\n\n\n\nRegister at your favorite time frame at tinyurl.com/Pre-Registration-Series or call 530.918.7222 and sign-up over the phone!
URL:https://northstateparent.com/event/parenting-a-second-time-around/2026-05-19/
LOCATION:Siskiyou Family YMCA\, 350 N Foothill Dr\, Yreka\, CA\, United States
CATEGORIES:Community Event,Educational,Family Friendly,Foster Care Community,Free,Free Class,Parenting,Support,Support Group,Teens
ATTACH;FMTTYPE=image/png:https://northstateparent.com/wp-content/uploads/2026/04/Screenshot-2026-04-07-at-9.05.05-AM-scaled.png
ORGANIZER;CN="First 5 Siskiyou":MAILTO:paula@first5siskiyou.org
END:VEVENT
BEGIN:VEVENT
DTSTART;TZID=America/Los_Angeles:20260519T173000
DTEND;TZID=America/Los_Angeles:20260519T191500
DTSTAMP:20260425T045844
CREATED:20260407T162011Z
LAST-MODIFIED:20260407T162011Z
UID:10104227-1779211800-1779218100@northstateparent.com
SUMMARY:Parenting A Second Time Around
DESCRIPTION:Parenting A Second Time Around (PASTA) is an award winning curriculum developed by Cornell University to address the unique needs and support relative caregivers raising children. These classes are designed for Grandparents and other relative caregivers. \nThis free\, eight-week program provides insights\, strategies\, and a welcoming community to help you build a strong\, supportive family environment. We will focus on cultivating empathy\, nurturing through grief and loss\, child development and individual differences\, discipline with dignity\, selfcare techniques\, legal concerns\, and navigating the teen years. Childcare is included for both sessions. Facilitated by Lori Keyser-Boswell. \n\n𝗧𝘂𝗲𝘀𝗱𝗮𝘆\, 𝗔𝗽𝗿𝗶𝗹 𝟮𝟭𝘀𝘁 – 𝗝𝘂𝗻𝗲 𝟵𝘁𝗵\n𝟵:𝟭𝟱 – 𝟭𝟬:𝟭𝟱𝗮𝗺 — Walk together\, build friends & enjoy a light brunch!\n𝟭𝟬:𝟭𝟱 – 𝟭𝟭:𝟯𝟬𝗮𝗺 — PASTA class\n__________________\n𝗼𝗿\, 𝗶𝗳 𝗺𝗼𝗿𝗲 𝗰𝗼𝗻𝘃𝗲𝗻𝗶𝗲𝗻𝘁 — 𝘀𝗶𝗴𝗻-𝘂𝗽 𝗳𝗼𝗿 𝘁𝗵𝗲 𝗰𝗹𝗮𝘀𝘀 𝗮𝘁 𝘁𝗵𝗶𝘀 𝘁𝗶𝗺𝗲:\n𝟱:𝟯𝟬 – 𝟳:𝟭𝟱𝗽𝗺 — PASTA class (family dinner included)\n\n\n\nRegister at your favorite time frame at tinyurl.com/Pre-Registration-Series or call 530.918.7222 and sign-up over the phone!
URL:https://northstateparent.com/event/parenting-a-second-time-around-2/2026-05-19/
LOCATION:Siskiyou Family YMCA\, 350 N Foothill Dr\, Yreka\, CA\, United States
CATEGORIES:Community Event,Educational,Family Friendly,Foster Care Community,Free,Free Class,Parenting,Support,Support Group,Teens
ATTACH;FMTTYPE=image/png:https://northstateparent.com/wp-content/uploads/2026/04/Screenshot-2026-04-07-at-9.05.05-AM-scaled.png
ORGANIZER;CN="First 5 Siskiyou":MAILTO:paula@first5siskiyou.org
END:VEVENT
BEGIN:VEVENT
DTSTART;TZID=America/Los_Angeles:20260526T091500
DTEND;TZID=America/Los_Angeles:20260526T113000
DTSTAMP:20260425T045844
CREATED:20260407T161740Z
LAST-MODIFIED:20260407T161740Z
UID:10104212-1779786900-1779795000@northstateparent.com
SUMMARY:Parenting A Second Time Around
DESCRIPTION:Parenting A Second Time Around (PASTA) is an award winning curriculum developed by Cornell University to address the unique needs and support relative caregivers raising children. These classes are designed for Grandparents and other relative caregivers. \nThis free\, eight-week program provides insights\, strategies\, and a welcoming community to help you build a strong\, supportive family environment. We will focus on cultivating empathy\, nurturing through grief and loss\, child development and individual differences\, discipline with dignity\, selfcare techniques\, legal concerns\, and navigating the teen years. Childcare is included for both sessions. Facilitated by Lori Keyser-Boswell. \n\n𝗧𝘂𝗲𝘀𝗱𝗮𝘆\, 𝗔𝗽𝗿𝗶𝗹 𝟮𝟭𝘀𝘁 – 𝗝𝘂𝗻𝗲 𝟵𝘁𝗵\n𝟵:𝟭𝟱 – 𝟭𝟬:𝟭𝟱𝗮𝗺 — Walk together\, build friends & enjoy a light brunch!\n𝟭𝟬:𝟭𝟱 – 𝟭𝟭:𝟯𝟬𝗮𝗺 — PASTA class\n__________________\n𝗼𝗿\, 𝗶𝗳 𝗺𝗼𝗿𝗲 𝗰𝗼𝗻𝘃𝗲𝗻𝗶𝗲𝗻𝘁 — 𝘀𝗶𝗴𝗻-𝘂𝗽 𝗳𝗼𝗿 𝘁𝗵𝗲 𝗰𝗹𝗮𝘀𝘀 𝗮𝘁 𝘁𝗵𝗶𝘀 𝘁𝗶𝗺𝗲:\n𝟱:𝟯𝟬 – 𝟳:𝟭𝟱𝗽𝗺 — PASTA class (family dinner included)\n\n\n\nRegister at your favorite time frame at tinyurl.com/Pre-Registration-Series or call 530.918.7222 and sign-up over the phone!
URL:https://northstateparent.com/event/parenting-a-second-time-around/2026-05-26/
LOCATION:Siskiyou Family YMCA\, 350 N Foothill Dr\, Yreka\, CA\, United States
CATEGORIES:Community Event,Educational,Family Friendly,Foster Care Community,Free,Free Class,Parenting,Support,Support Group,Teens
ATTACH;FMTTYPE=image/png:https://northstateparent.com/wp-content/uploads/2026/04/Screenshot-2026-04-07-at-9.05.05-AM-scaled.png
ORGANIZER;CN="First 5 Siskiyou":MAILTO:paula@first5siskiyou.org
END:VEVENT
BEGIN:VEVENT
DTSTART;TZID=America/Los_Angeles:20260526T173000
DTEND;TZID=America/Los_Angeles:20260526T191500
DTSTAMP:20260425T045844
CREATED:20260407T162011Z
LAST-MODIFIED:20260407T162011Z
UID:10104228-1779816600-1779822900@northstateparent.com
SUMMARY:Parenting A Second Time Around
DESCRIPTION:Parenting A Second Time Around (PASTA) is an award winning curriculum developed by Cornell University to address the unique needs and support relative caregivers raising children. These classes are designed for Grandparents and other relative caregivers. \nThis free\, eight-week program provides insights\, strategies\, and a welcoming community to help you build a strong\, supportive family environment. We will focus on cultivating empathy\, nurturing through grief and loss\, child development and individual differences\, discipline with dignity\, selfcare techniques\, legal concerns\, and navigating the teen years. Childcare is included for both sessions. Facilitated by Lori Keyser-Boswell. \n\n𝗧𝘂𝗲𝘀𝗱𝗮𝘆\, 𝗔𝗽𝗿𝗶𝗹 𝟮𝟭𝘀𝘁 – 𝗝𝘂𝗻𝗲 𝟵𝘁𝗵\n𝟵:𝟭𝟱 – 𝟭𝟬:𝟭𝟱𝗮𝗺 — Walk together\, build friends & enjoy a light brunch!\n𝟭𝟬:𝟭𝟱 – 𝟭𝟭:𝟯𝟬𝗮𝗺 — PASTA class\n__________________\n𝗼𝗿\, 𝗶𝗳 𝗺𝗼𝗿𝗲 𝗰𝗼𝗻𝘃𝗲𝗻𝗶𝗲𝗻𝘁 — 𝘀𝗶𝗴𝗻-𝘂𝗽 𝗳𝗼𝗿 𝘁𝗵𝗲 𝗰𝗹𝗮𝘀𝘀 𝗮𝘁 𝘁𝗵𝗶𝘀 𝘁𝗶𝗺𝗲:\n𝟱:𝟯𝟬 – 𝟳:𝟭𝟱𝗽𝗺 — PASTA class (family dinner included)\n\n\n\nRegister at your favorite time frame at tinyurl.com/Pre-Registration-Series or call 530.918.7222 and sign-up over the phone!
URL:https://northstateparent.com/event/parenting-a-second-time-around-2/2026-05-26/
LOCATION:Siskiyou Family YMCA\, 350 N Foothill Dr\, Yreka\, CA\, United States
CATEGORIES:Community Event,Educational,Family Friendly,Foster Care Community,Free,Free Class,Parenting,Support,Support Group,Teens
ATTACH;FMTTYPE=image/png:https://northstateparent.com/wp-content/uploads/2026/04/Screenshot-2026-04-07-at-9.05.05-AM-scaled.png
ORGANIZER;CN="First 5 Siskiyou":MAILTO:paula@first5siskiyou.org
END:VEVENT
BEGIN:VEVENT
DTSTART;TZID=America/Los_Angeles:20260602T091500
DTEND;TZID=America/Los_Angeles:20260602T113000
DTSTAMP:20260425T045844
CREATED:20260407T161740Z
LAST-MODIFIED:20260407T161740Z
UID:10104213-1780391700-1780399800@northstateparent.com
SUMMARY:Parenting A Second Time Around
DESCRIPTION:Parenting A Second Time Around (PASTA) is an award winning curriculum developed by Cornell University to address the unique needs and support relative caregivers raising children. These classes are designed for Grandparents and other relative caregivers. \nThis free\, eight-week program provides insights\, strategies\, and a welcoming community to help you build a strong\, supportive family environment. We will focus on cultivating empathy\, nurturing through grief and loss\, child development and individual differences\, discipline with dignity\, selfcare techniques\, legal concerns\, and navigating the teen years. Childcare is included for both sessions. Facilitated by Lori Keyser-Boswell. \n\n𝗧𝘂𝗲𝘀𝗱𝗮𝘆\, 𝗔𝗽𝗿𝗶𝗹 𝟮𝟭𝘀𝘁 – 𝗝𝘂𝗻𝗲 𝟵𝘁𝗵\n𝟵:𝟭𝟱 – 𝟭𝟬:𝟭𝟱𝗮𝗺 — Walk together\, build friends & enjoy a light brunch!\n𝟭𝟬:𝟭𝟱 – 𝟭𝟭:𝟯𝟬𝗮𝗺 — PASTA class\n__________________\n𝗼𝗿\, 𝗶𝗳 𝗺𝗼𝗿𝗲 𝗰𝗼𝗻𝘃𝗲𝗻𝗶𝗲𝗻𝘁 — 𝘀𝗶𝗴𝗻-𝘂𝗽 𝗳𝗼𝗿 𝘁𝗵𝗲 𝗰𝗹𝗮𝘀𝘀 𝗮𝘁 𝘁𝗵𝗶𝘀 𝘁𝗶𝗺𝗲:\n𝟱:𝟯𝟬 – 𝟳:𝟭𝟱𝗽𝗺 — PASTA class (family dinner included)\n\n\n\nRegister at your favorite time frame at tinyurl.com/Pre-Registration-Series or call 530.918.7222 and sign-up over the phone!
URL:https://northstateparent.com/event/parenting-a-second-time-around/2026-06-02/
LOCATION:Siskiyou Family YMCA\, 350 N Foothill Dr\, Yreka\, CA\, United States
CATEGORIES:Community Event,Educational,Family Friendly,Foster Care Community,Free,Free Class,Parenting,Support,Support Group,Teens
ATTACH;FMTTYPE=image/png:https://northstateparent.com/wp-content/uploads/2026/04/Screenshot-2026-04-07-at-9.05.05-AM-scaled.png
ORGANIZER;CN="First 5 Siskiyou":MAILTO:paula@first5siskiyou.org
END:VEVENT
BEGIN:VEVENT
DTSTART;TZID=America/Los_Angeles:20260602T173000
DTEND;TZID=America/Los_Angeles:20260602T191500
DTSTAMP:20260425T045844
CREATED:20260407T162011Z
LAST-MODIFIED:20260407T162011Z
UID:10104229-1780421400-1780427700@northstateparent.com
SUMMARY:Parenting A Second Time Around
DESCRIPTION:Parenting A Second Time Around (PASTA) is an award winning curriculum developed by Cornell University to address the unique needs and support relative caregivers raising children. These classes are designed for Grandparents and other relative caregivers. \nThis free\, eight-week program provides insights\, strategies\, and a welcoming community to help you build a strong\, supportive family environment. We will focus on cultivating empathy\, nurturing through grief and loss\, child development and individual differences\, discipline with dignity\, selfcare techniques\, legal concerns\, and navigating the teen years. Childcare is included for both sessions. Facilitated by Lori Keyser-Boswell. \n\n𝗧𝘂𝗲𝘀𝗱𝗮𝘆\, 𝗔𝗽𝗿𝗶𝗹 𝟮𝟭𝘀𝘁 – 𝗝𝘂𝗻𝗲 𝟵𝘁𝗵\n𝟵:𝟭𝟱 – 𝟭𝟬:𝟭𝟱𝗮𝗺 — Walk together\, build friends & enjoy a light brunch!\n𝟭𝟬:𝟭𝟱 – 𝟭𝟭:𝟯𝟬𝗮𝗺 — PASTA class\n__________________\n𝗼𝗿\, 𝗶𝗳 𝗺𝗼𝗿𝗲 𝗰𝗼𝗻𝘃𝗲𝗻𝗶𝗲𝗻𝘁 — 𝘀𝗶𝗴𝗻-𝘂𝗽 𝗳𝗼𝗿 𝘁𝗵𝗲 𝗰𝗹𝗮𝘀𝘀 𝗮𝘁 𝘁𝗵𝗶𝘀 𝘁𝗶𝗺𝗲:\n𝟱:𝟯𝟬 – 𝟳:𝟭𝟱𝗽𝗺 — PASTA class (family dinner included)\n\n\n\nRegister at your favorite time frame at tinyurl.com/Pre-Registration-Series or call 530.918.7222 and sign-up over the phone!
URL:https://northstateparent.com/event/parenting-a-second-time-around-2/2026-06-02/
LOCATION:Siskiyou Family YMCA\, 350 N Foothill Dr\, Yreka\, CA\, United States
CATEGORIES:Community Event,Educational,Family Friendly,Foster Care Community,Free,Free Class,Parenting,Support,Support Group,Teens
ATTACH;FMTTYPE=image/png:https://northstateparent.com/wp-content/uploads/2026/04/Screenshot-2026-04-07-at-9.05.05-AM-scaled.png
ORGANIZER;CN="First 5 Siskiyou":MAILTO:paula@first5siskiyou.org
END:VEVENT
BEGIN:VEVENT
DTSTART;TZID=America/Los_Angeles:20260609T091500
DTEND;TZID=America/Los_Angeles:20260609T113000
DTSTAMP:20260425T045844
CREATED:20260407T161740Z
LAST-MODIFIED:20260407T161740Z
UID:10104214-1780996500-1781004600@northstateparent.com
SUMMARY:Parenting A Second Time Around
DESCRIPTION:Parenting A Second Time Around (PASTA) is an award winning curriculum developed by Cornell University to address the unique needs and support relative caregivers raising children. These classes are designed for Grandparents and other relative caregivers. \nThis free\, eight-week program provides insights\, strategies\, and a welcoming community to help you build a strong\, supportive family environment. We will focus on cultivating empathy\, nurturing through grief and loss\, child development and individual differences\, discipline with dignity\, selfcare techniques\, legal concerns\, and navigating the teen years. Childcare is included for both sessions. Facilitated by Lori Keyser-Boswell. \n\n𝗧𝘂𝗲𝘀𝗱𝗮𝘆\, 𝗔𝗽𝗿𝗶𝗹 𝟮𝟭𝘀𝘁 – 𝗝𝘂𝗻𝗲 𝟵𝘁𝗵\n𝟵:𝟭𝟱 – 𝟭𝟬:𝟭𝟱𝗮𝗺 — Walk together\, build friends & enjoy a light brunch!\n𝟭𝟬:𝟭𝟱 – 𝟭𝟭:𝟯𝟬𝗮𝗺 — PASTA class\n__________________\n𝗼𝗿\, 𝗶𝗳 𝗺𝗼𝗿𝗲 𝗰𝗼𝗻𝘃𝗲𝗻𝗶𝗲𝗻𝘁 — 𝘀𝗶𝗴𝗻-𝘂𝗽 𝗳𝗼𝗿 𝘁𝗵𝗲 𝗰𝗹𝗮𝘀𝘀 𝗮𝘁 𝘁𝗵𝗶𝘀 𝘁𝗶𝗺𝗲:\n𝟱:𝟯𝟬 – 𝟳:𝟭𝟱𝗽𝗺 — PASTA class (family dinner included)\n\n\n\nRegister at your favorite time frame at tinyurl.com/Pre-Registration-Series or call 530.918.7222 and sign-up over the phone!
URL:https://northstateparent.com/event/parenting-a-second-time-around/2026-06-09/
LOCATION:Siskiyou Family YMCA\, 350 N Foothill Dr\, Yreka\, CA\, United States
CATEGORIES:Community Event,Educational,Family Friendly,Foster Care Community,Free,Free Class,Parenting,Support,Support Group,Teens
ATTACH;FMTTYPE=image/png:https://northstateparent.com/wp-content/uploads/2026/04/Screenshot-2026-04-07-at-9.05.05-AM-scaled.png
ORGANIZER;CN="First 5 Siskiyou":MAILTO:paula@first5siskiyou.org
END:VEVENT
BEGIN:VEVENT
DTSTART;TZID=America/Los_Angeles:20260609T173000
DTEND;TZID=America/Los_Angeles:20260609T191500
DTSTAMP:20260425T045844
CREATED:20260407T162011Z
LAST-MODIFIED:20260407T162011Z
UID:10104230-1781026200-1781032500@northstateparent.com
SUMMARY:Parenting A Second Time Around
DESCRIPTION:Parenting A Second Time Around (PASTA) is an award winning curriculum developed by Cornell University to address the unique needs and support relative caregivers raising children. These classes are designed for Grandparents and other relative caregivers. \nThis free\, eight-week program provides insights\, strategies\, and a welcoming community to help you build a strong\, supportive family environment. We will focus on cultivating empathy\, nurturing through grief and loss\, child development and individual differences\, discipline with dignity\, selfcare techniques\, legal concerns\, and navigating the teen years. Childcare is included for both sessions. Facilitated by Lori Keyser-Boswell. \n\n𝗧𝘂𝗲𝘀𝗱𝗮𝘆\, 𝗔𝗽𝗿𝗶𝗹 𝟮𝟭𝘀𝘁 – 𝗝𝘂𝗻𝗲 𝟵𝘁𝗵\n𝟵:𝟭𝟱 – 𝟭𝟬:𝟭𝟱𝗮𝗺 — Walk together\, build friends & enjoy a light brunch!\n𝟭𝟬:𝟭𝟱 – 𝟭𝟭:𝟯𝟬𝗮𝗺 — PASTA class\n__________________\n𝗼𝗿\, 𝗶𝗳 𝗺𝗼𝗿𝗲 𝗰𝗼𝗻𝘃𝗲𝗻𝗶𝗲𝗻𝘁 — 𝘀𝗶𝗴𝗻-𝘂𝗽 𝗳𝗼𝗿 𝘁𝗵𝗲 𝗰𝗹𝗮𝘀𝘀 𝗮𝘁 𝘁𝗵𝗶𝘀 𝘁𝗶𝗺𝗲:\n𝟱:𝟯𝟬 – 𝟳:𝟭𝟱𝗽𝗺 — PASTA class (family dinner included)\n\n\n\nRegister at your favorite time frame at tinyurl.com/Pre-Registration-Series or call 530.918.7222 and sign-up over the phone!
URL:https://northstateparent.com/event/parenting-a-second-time-around-2/2026-06-09/
LOCATION:Siskiyou Family YMCA\, 350 N Foothill Dr\, Yreka\, CA\, United States
CATEGORIES:Community Event,Educational,Family Friendly,Foster Care Community,Free,Free Class,Parenting,Support,Support Group,Teens
ATTACH;FMTTYPE=image/png:https://northstateparent.com/wp-content/uploads/2026/04/Screenshot-2026-04-07-at-9.05.05-AM-scaled.png
ORGANIZER;CN="First 5 Siskiyou":MAILTO:paula@first5siskiyou.org
END:VEVENT
END:VCALENDAR