BEGIN:VCALENDAR
VERSION:2.0
PRODID:-//North State Parent magazine - ECPv6.15.20//NONSGML v1.0//EN
CALSCALE:GREGORIAN
METHOD:PUBLISH
X-WR-CALNAME:North State Parent magazine
X-ORIGINAL-URL:https://northstateparent.com
X-WR-CALDESC:Events for North State Parent magazine
REFRESH-INTERVAL;VALUE=DURATION:PT1H
X-Robots-Tag:noindex
X-PUBLISHED-TTL:PT1H
BEGIN:VTIMEZONE
TZID:America/Los_Angeles
BEGIN:DAYLIGHT
TZOFFSETFROM:-0800
TZOFFSETTO:-0700
TZNAME:PDT
DTSTART:20250309T100000
END:DAYLIGHT
BEGIN:STANDARD
TZOFFSETFROM:-0700
TZOFFSETTO:-0800
TZNAME:PST
DTSTART:20251102T090000
END:STANDARD
BEGIN:DAYLIGHT
TZOFFSETFROM:-0800
TZOFFSETTO:-0700
TZNAME:PDT
DTSTART:20260308T100000
END:DAYLIGHT
BEGIN:STANDARD
TZOFFSETFROM:-0700
TZOFFSETTO:-0800
TZNAME:PST
DTSTART:20261101T090000
END:STANDARD
BEGIN:DAYLIGHT
TZOFFSETFROM:-0800
TZOFFSETTO:-0700
TZNAME:PDT
DTSTART:20270314T100000
END:DAYLIGHT
BEGIN:STANDARD
TZOFFSETFROM:-0700
TZOFFSETTO:-0800
TZNAME:PST
DTSTART:20271107T090000
END:STANDARD
END:VTIMEZONE
BEGIN:VEVENT
DTSTART;TZID=America/Los_Angeles:20260427T100000
DTEND;TZID=America/Los_Angeles:20260427T113000
DTSTAMP:20260425T050240
CREATED:20260107T210938Z
LAST-MODIFIED:20260107T211713Z
UID:10091572-1777284000-1777289400@northstateparent.com
SUMMARY:South Siskiyou County Playgroup: McCloud
DESCRIPTION:This welcoming playgroup offers a relaxed\, fun space for young children and their caregivers to connect\, play\, and build friendships. Enjoy open-ended play\, social interaction\, and time to explore together in a supportive\, community-focused environment.
URL:https://northstateparent.com/event/south-siskiyou-county-playgroup-mccloud/2026-04-27/
LOCATION:McCloud Community Resource Center\, 304 Main St. Suite A\, McCloud\, 96057\, United States
CATEGORIES:Little Ones
ATTACH;FMTTYPE=image/png:https://northstateparent.com/wp-content/uploads/2026/01/Playgroup-M-scaled.png
END:VEVENT
BEGIN:VEVENT
DTSTART;TZID=America/Los_Angeles:20260504T100000
DTEND;TZID=America/Los_Angeles:20260504T113000
DTSTAMP:20260425T050240
CREATED:20260107T210938Z
LAST-MODIFIED:20260107T211713Z
UID:10091573-1777888800-1777894200@northstateparent.com
SUMMARY:South Siskiyou County Playgroup: McCloud
DESCRIPTION:This welcoming playgroup offers a relaxed\, fun space for young children and their caregivers to connect\, play\, and build friendships. Enjoy open-ended play\, social interaction\, and time to explore together in a supportive\, community-focused environment.
URL:https://northstateparent.com/event/south-siskiyou-county-playgroup-mccloud/2026-05-04/
LOCATION:McCloud Community Resource Center\, 304 Main St. Suite A\, McCloud\, 96057\, United States
CATEGORIES:Little Ones
ATTACH;FMTTYPE=image/png:https://northstateparent.com/wp-content/uploads/2026/01/Playgroup-M-scaled.png
END:VEVENT
BEGIN:VEVENT
DTSTART;TZID=America/Los_Angeles:20260511T100000
DTEND;TZID=America/Los_Angeles:20260511T113000
DTSTAMP:20260425T050240
CREATED:20260107T210938Z
LAST-MODIFIED:20260107T211713Z
UID:10091574-1778493600-1778499000@northstateparent.com
SUMMARY:South Siskiyou County Playgroup: McCloud
DESCRIPTION:This welcoming playgroup offers a relaxed\, fun space for young children and their caregivers to connect\, play\, and build friendships. Enjoy open-ended play\, social interaction\, and time to explore together in a supportive\, community-focused environment.
URL:https://northstateparent.com/event/south-siskiyou-county-playgroup-mccloud/2026-05-11/
LOCATION:McCloud Community Resource Center\, 304 Main St. Suite A\, McCloud\, 96057\, United States
CATEGORIES:Little Ones
ATTACH;FMTTYPE=image/png:https://northstateparent.com/wp-content/uploads/2026/01/Playgroup-M-scaled.png
END:VEVENT
BEGIN:VEVENT
DTSTART;TZID=America/Los_Angeles:20260518T100000
DTEND;TZID=America/Los_Angeles:20260518T113000
DTSTAMP:20260425T050240
CREATED:20260107T210938Z
LAST-MODIFIED:20260107T211713Z
UID:10091575-1779098400-1779103800@northstateparent.com
SUMMARY:South Siskiyou County Playgroup: McCloud
DESCRIPTION:This welcoming playgroup offers a relaxed\, fun space for young children and their caregivers to connect\, play\, and build friendships. Enjoy open-ended play\, social interaction\, and time to explore together in a supportive\, community-focused environment.
URL:https://northstateparent.com/event/south-siskiyou-county-playgroup-mccloud/2026-05-18/
LOCATION:McCloud Community Resource Center\, 304 Main St. Suite A\, McCloud\, 96057\, United States
CATEGORIES:Little Ones
ATTACH;FMTTYPE=image/png:https://northstateparent.com/wp-content/uploads/2026/01/Playgroup-M-scaled.png
END:VEVENT
BEGIN:VEVENT
DTSTART;TZID=America/Los_Angeles:20260525T100000
DTEND;TZID=America/Los_Angeles:20260525T113000
DTSTAMP:20260425T050240
CREATED:20260107T210938Z
LAST-MODIFIED:20260107T211713Z
UID:10091576-1779703200-1779708600@northstateparent.com
SUMMARY:South Siskiyou County Playgroup: McCloud
DESCRIPTION:This welcoming playgroup offers a relaxed\, fun space for young children and their caregivers to connect\, play\, and build friendships. Enjoy open-ended play\, social interaction\, and time to explore together in a supportive\, community-focused environment.
URL:https://northstateparent.com/event/south-siskiyou-county-playgroup-mccloud/2026-05-25/
LOCATION:McCloud Community Resource Center\, 304 Main St. Suite A\, McCloud\, 96057\, United States
CATEGORIES:Little Ones
ATTACH;FMTTYPE=image/png:https://northstateparent.com/wp-content/uploads/2026/01/Playgroup-M-scaled.png
END:VEVENT
END:VCALENDAR