BEGIN:VCALENDAR
VERSION:2.0
PRODID:-//North State Parent magazine - ECPv6.15.20//NONSGML v1.0//EN
CALSCALE:GREGORIAN
METHOD:PUBLISH
X-WR-CALNAME:North State Parent magazine
X-ORIGINAL-URL:https://northstateparent.com
X-WR-CALDESC:Events for North State Parent magazine
REFRESH-INTERVAL;VALUE=DURATION:PT1H
X-Robots-Tag:noindex
X-PUBLISHED-TTL:PT1H
BEGIN:VTIMEZONE
TZID:America/Los_Angeles
BEGIN:DAYLIGHT
TZOFFSETFROM:-0800
TZOFFSETTO:-0700
TZNAME:PDT
DTSTART:20250309T100000
END:DAYLIGHT
BEGIN:STANDARD
TZOFFSETFROM:-0700
TZOFFSETTO:-0800
TZNAME:PST
DTSTART:20251102T090000
END:STANDARD
BEGIN:DAYLIGHT
TZOFFSETFROM:-0800
TZOFFSETTO:-0700
TZNAME:PDT
DTSTART:20260308T100000
END:DAYLIGHT
BEGIN:STANDARD
TZOFFSETFROM:-0700
TZOFFSETTO:-0800
TZNAME:PST
DTSTART:20261101T090000
END:STANDARD
BEGIN:DAYLIGHT
TZOFFSETFROM:-0800
TZOFFSETTO:-0700
TZNAME:PDT
DTSTART:20270314T100000
END:DAYLIGHT
BEGIN:STANDARD
TZOFFSETFROM:-0700
TZOFFSETTO:-0800
TZNAME:PST
DTSTART:20271107T090000
END:STANDARD
END:VTIMEZONE
BEGIN:VEVENT
DTSTART;TZID=America/Los_Angeles:20260423T080000
DTEND;TZID=America/Los_Angeles:20260423T170000
DTSTAMP:20260423T115138
CREATED:20260106T004739Z
LAST-MODIFIED:20260106T010517Z
UID:10088435-1776931200-1776963600@northstateparent.com
SUMMARY:New Montessori Preschool
DESCRIPTION:The Shasta Family YMCA is excited to introduce our new Montessori Preschool Program\, opening February 2026 in Redding! \nDesigned for children ages 2½–5\, this child-centered program fosters independence\, curiosity\, and early learning in a warm\, supportive environment. \nEnrollment opens January 5\, 2026 sfymca.org/montessori | (530) 246-9622 ext. 119
URL:https://northstateparent.com/event/new-montessori-preschool/2026-04-23/
LOCATION:Shasta Family YMCA\, 1155 N. Court St.\, Redding\, CA\, 96003\, United States
CATEGORIES:Educational,Little Ones
ATTACH;FMTTYPE=image/jpeg:https://northstateparent.com/wp-content/uploads/2026/01/preschool-scaled-e1767660396894.jpeg
END:VEVENT
BEGIN:VEVENT
DTSTART;TZID=America/Los_Angeles:20260424T080000
DTEND;TZID=America/Los_Angeles:20260424T170000
DTSTAMP:20260423T115138
CREATED:20260106T004739Z
LAST-MODIFIED:20260106T010517Z
UID:10088436-1777017600-1777050000@northstateparent.com
SUMMARY:New Montessori Preschool
DESCRIPTION:The Shasta Family YMCA is excited to introduce our new Montessori Preschool Program\, opening February 2026 in Redding! \nDesigned for children ages 2½–5\, this child-centered program fosters independence\, curiosity\, and early learning in a warm\, supportive environment. \nEnrollment opens January 5\, 2026 sfymca.org/montessori | (530) 246-9622 ext. 119
URL:https://northstateparent.com/event/new-montessori-preschool/2026-04-24/
LOCATION:Shasta Family YMCA\, 1155 N. Court St.\, Redding\, CA\, 96003\, United States
CATEGORIES:Educational,Little Ones
ATTACH;FMTTYPE=image/jpeg:https://northstateparent.com/wp-content/uploads/2026/01/preschool-scaled-e1767660396894.jpeg
END:VEVENT
BEGIN:VEVENT
DTSTART;TZID=America/Los_Angeles:20260427T080000
DTEND;TZID=America/Los_Angeles:20260427T170000
DTSTAMP:20260423T115138
CREATED:20260106T004739Z
LAST-MODIFIED:20260106T010517Z
UID:10088437-1777276800-1777309200@northstateparent.com
SUMMARY:New Montessori Preschool
DESCRIPTION:The Shasta Family YMCA is excited to introduce our new Montessori Preschool Program\, opening February 2026 in Redding! \nDesigned for children ages 2½–5\, this child-centered program fosters independence\, curiosity\, and early learning in a warm\, supportive environment. \nEnrollment opens January 5\, 2026 sfymca.org/montessori | (530) 246-9622 ext. 119
URL:https://northstateparent.com/event/new-montessori-preschool/2026-04-27/
LOCATION:Shasta Family YMCA\, 1155 N. Court St.\, Redding\, CA\, 96003\, United States
CATEGORIES:Educational,Little Ones
ATTACH;FMTTYPE=image/jpeg:https://northstateparent.com/wp-content/uploads/2026/01/preschool-scaled-e1767660396894.jpeg
END:VEVENT
BEGIN:VEVENT
DTSTART;TZID=America/Los_Angeles:20260428T080000
DTEND;TZID=America/Los_Angeles:20260428T170000
DTSTAMP:20260423T115138
CREATED:20260106T004739Z
LAST-MODIFIED:20260106T010517Z
UID:10088438-1777363200-1777395600@northstateparent.com
SUMMARY:New Montessori Preschool
DESCRIPTION:The Shasta Family YMCA is excited to introduce our new Montessori Preschool Program\, opening February 2026 in Redding! \nDesigned for children ages 2½–5\, this child-centered program fosters independence\, curiosity\, and early learning in a warm\, supportive environment. \nEnrollment opens January 5\, 2026 sfymca.org/montessori | (530) 246-9622 ext. 119
URL:https://northstateparent.com/event/new-montessori-preschool/2026-04-28/
LOCATION:Shasta Family YMCA\, 1155 N. Court St.\, Redding\, CA\, 96003\, United States
CATEGORIES:Educational,Little Ones
ATTACH;FMTTYPE=image/jpeg:https://northstateparent.com/wp-content/uploads/2026/01/preschool-scaled-e1767660396894.jpeg
END:VEVENT
BEGIN:VEVENT
DTSTART;TZID=America/Los_Angeles:20260429T080000
DTEND;TZID=America/Los_Angeles:20260429T170000
DTSTAMP:20260423T115138
CREATED:20260106T004739Z
LAST-MODIFIED:20260106T010517Z
UID:10088439-1777449600-1777482000@northstateparent.com
SUMMARY:New Montessori Preschool
DESCRIPTION:The Shasta Family YMCA is excited to introduce our new Montessori Preschool Program\, opening February 2026 in Redding! \nDesigned for children ages 2½–5\, this child-centered program fosters independence\, curiosity\, and early learning in a warm\, supportive environment. \nEnrollment opens January 5\, 2026 sfymca.org/montessori | (530) 246-9622 ext. 119
URL:https://northstateparent.com/event/new-montessori-preschool/2026-04-29/
LOCATION:Shasta Family YMCA\, 1155 N. Court St.\, Redding\, CA\, 96003\, United States
CATEGORIES:Educational,Little Ones
ATTACH;FMTTYPE=image/jpeg:https://northstateparent.com/wp-content/uploads/2026/01/preschool-scaled-e1767660396894.jpeg
END:VEVENT
BEGIN:VEVENT
DTSTART;TZID=America/Los_Angeles:20260430T080000
DTEND;TZID=America/Los_Angeles:20260430T170000
DTSTAMP:20260423T115138
CREATED:20260106T004739Z
LAST-MODIFIED:20260106T010517Z
UID:10088440-1777536000-1777568400@northstateparent.com
SUMMARY:New Montessori Preschool
DESCRIPTION:The Shasta Family YMCA is excited to introduce our new Montessori Preschool Program\, opening February 2026 in Redding! \nDesigned for children ages 2½–5\, this child-centered program fosters independence\, curiosity\, and early learning in a warm\, supportive environment. \nEnrollment opens January 5\, 2026 sfymca.org/montessori | (530) 246-9622 ext. 119
URL:https://northstateparent.com/event/new-montessori-preschool/2026-04-30/
LOCATION:Shasta Family YMCA\, 1155 N. Court St.\, Redding\, CA\, 96003\, United States
CATEGORIES:Educational,Little Ones
ATTACH;FMTTYPE=image/jpeg:https://northstateparent.com/wp-content/uploads/2026/01/preschool-scaled-e1767660396894.jpeg
END:VEVENT
BEGIN:VEVENT
DTSTART;TZID=America/Los_Angeles:20260501T080000
DTEND;TZID=America/Los_Angeles:20260501T170000
DTSTAMP:20260423T115138
CREATED:20260106T004739Z
LAST-MODIFIED:20260106T010517Z
UID:10088441-1777622400-1777654800@northstateparent.com
SUMMARY:New Montessori Preschool
DESCRIPTION:The Shasta Family YMCA is excited to introduce our new Montessori Preschool Program\, opening February 2026 in Redding! \nDesigned for children ages 2½–5\, this child-centered program fosters independence\, curiosity\, and early learning in a warm\, supportive environment. \nEnrollment opens January 5\, 2026 sfymca.org/montessori | (530) 246-9622 ext. 119
URL:https://northstateparent.com/event/new-montessori-preschool/2026-05-01/
LOCATION:Shasta Family YMCA\, 1155 N. Court St.\, Redding\, CA\, 96003\, United States
CATEGORIES:Educational,Little Ones
ATTACH;FMTTYPE=image/jpeg:https://northstateparent.com/wp-content/uploads/2026/01/preschool-scaled-e1767660396894.jpeg
END:VEVENT
BEGIN:VEVENT
DTSTART;TZID=America/Los_Angeles:20260504T080000
DTEND;TZID=America/Los_Angeles:20260504T170000
DTSTAMP:20260423T115138
CREATED:20260106T004739Z
LAST-MODIFIED:20260106T010517Z
UID:10088442-1777881600-1777914000@northstateparent.com
SUMMARY:New Montessori Preschool
DESCRIPTION:The Shasta Family YMCA is excited to introduce our new Montessori Preschool Program\, opening February 2026 in Redding! \nDesigned for children ages 2½–5\, this child-centered program fosters independence\, curiosity\, and early learning in a warm\, supportive environment. \nEnrollment opens January 5\, 2026 sfymca.org/montessori | (530) 246-9622 ext. 119
URL:https://northstateparent.com/event/new-montessori-preschool/2026-05-04/
LOCATION:Shasta Family YMCA\, 1155 N. Court St.\, Redding\, CA\, 96003\, United States
CATEGORIES:Educational,Little Ones
ATTACH;FMTTYPE=image/jpeg:https://northstateparent.com/wp-content/uploads/2026/01/preschool-scaled-e1767660396894.jpeg
END:VEVENT
BEGIN:VEVENT
DTSTART;TZID=America/Los_Angeles:20260505T080000
DTEND;TZID=America/Los_Angeles:20260505T170000
DTSTAMP:20260423T115138
CREATED:20260106T004739Z
LAST-MODIFIED:20260106T010517Z
UID:10088443-1777968000-1778000400@northstateparent.com
SUMMARY:New Montessori Preschool
DESCRIPTION:The Shasta Family YMCA is excited to introduce our new Montessori Preschool Program\, opening February 2026 in Redding! \nDesigned for children ages 2½–5\, this child-centered program fosters independence\, curiosity\, and early learning in a warm\, supportive environment. \nEnrollment opens January 5\, 2026 sfymca.org/montessori | (530) 246-9622 ext. 119
URL:https://northstateparent.com/event/new-montessori-preschool/2026-05-05/
LOCATION:Shasta Family YMCA\, 1155 N. Court St.\, Redding\, CA\, 96003\, United States
CATEGORIES:Educational,Little Ones
ATTACH;FMTTYPE=image/jpeg:https://northstateparent.com/wp-content/uploads/2026/01/preschool-scaled-e1767660396894.jpeg
END:VEVENT
BEGIN:VEVENT
DTSTART;TZID=America/Los_Angeles:20260506T080000
DTEND;TZID=America/Los_Angeles:20260506T170000
DTSTAMP:20260423T115138
CREATED:20260106T004739Z
LAST-MODIFIED:20260106T010517Z
UID:10088444-1778054400-1778086800@northstateparent.com
SUMMARY:New Montessori Preschool
DESCRIPTION:The Shasta Family YMCA is excited to introduce our new Montessori Preschool Program\, opening February 2026 in Redding! \nDesigned for children ages 2½–5\, this child-centered program fosters independence\, curiosity\, and early learning in a warm\, supportive environment. \nEnrollment opens January 5\, 2026 sfymca.org/montessori | (530) 246-9622 ext. 119
URL:https://northstateparent.com/event/new-montessori-preschool/2026-05-06/
LOCATION:Shasta Family YMCA\, 1155 N. Court St.\, Redding\, CA\, 96003\, United States
CATEGORIES:Educational,Little Ones
ATTACH;FMTTYPE=image/jpeg:https://northstateparent.com/wp-content/uploads/2026/01/preschool-scaled-e1767660396894.jpeg
END:VEVENT
BEGIN:VEVENT
DTSTART;TZID=America/Los_Angeles:20260507T080000
DTEND;TZID=America/Los_Angeles:20260507T170000
DTSTAMP:20260423T115138
CREATED:20260106T004739Z
LAST-MODIFIED:20260106T010517Z
UID:10088445-1778140800-1778173200@northstateparent.com
SUMMARY:New Montessori Preschool
DESCRIPTION:The Shasta Family YMCA is excited to introduce our new Montessori Preschool Program\, opening February 2026 in Redding! \nDesigned for children ages 2½–5\, this child-centered program fosters independence\, curiosity\, and early learning in a warm\, supportive environment. \nEnrollment opens January 5\, 2026 sfymca.org/montessori | (530) 246-9622 ext. 119
URL:https://northstateparent.com/event/new-montessori-preschool/2026-05-07/
LOCATION:Shasta Family YMCA\, 1155 N. Court St.\, Redding\, CA\, 96003\, United States
CATEGORIES:Educational,Little Ones
ATTACH;FMTTYPE=image/jpeg:https://northstateparent.com/wp-content/uploads/2026/01/preschool-scaled-e1767660396894.jpeg
END:VEVENT
BEGIN:VEVENT
DTSTART;TZID=America/Los_Angeles:20260508T080000
DTEND;TZID=America/Los_Angeles:20260508T170000
DTSTAMP:20260423T115138
CREATED:20260106T004739Z
LAST-MODIFIED:20260106T010517Z
UID:10088446-1778227200-1778259600@northstateparent.com
SUMMARY:New Montessori Preschool
DESCRIPTION:The Shasta Family YMCA is excited to introduce our new Montessori Preschool Program\, opening February 2026 in Redding! \nDesigned for children ages 2½–5\, this child-centered program fosters independence\, curiosity\, and early learning in a warm\, supportive environment. \nEnrollment opens January 5\, 2026 sfymca.org/montessori | (530) 246-9622 ext. 119
URL:https://northstateparent.com/event/new-montessori-preschool/2026-05-08/
LOCATION:Shasta Family YMCA\, 1155 N. Court St.\, Redding\, CA\, 96003\, United States
CATEGORIES:Educational,Little Ones
ATTACH;FMTTYPE=image/jpeg:https://northstateparent.com/wp-content/uploads/2026/01/preschool-scaled-e1767660396894.jpeg
END:VEVENT
BEGIN:VEVENT
DTSTART;TZID=America/Los_Angeles:20260511T080000
DTEND;TZID=America/Los_Angeles:20260511T170000
DTSTAMP:20260423T115138
CREATED:20260106T004739Z
LAST-MODIFIED:20260106T010517Z
UID:10088447-1778486400-1778518800@northstateparent.com
SUMMARY:New Montessori Preschool
DESCRIPTION:The Shasta Family YMCA is excited to introduce our new Montessori Preschool Program\, opening February 2026 in Redding! \nDesigned for children ages 2½–5\, this child-centered program fosters independence\, curiosity\, and early learning in a warm\, supportive environment. \nEnrollment opens January 5\, 2026 sfymca.org/montessori | (530) 246-9622 ext. 119
URL:https://northstateparent.com/event/new-montessori-preschool/2026-05-11/
LOCATION:Shasta Family YMCA\, 1155 N. Court St.\, Redding\, CA\, 96003\, United States
CATEGORIES:Educational,Little Ones
ATTACH;FMTTYPE=image/jpeg:https://northstateparent.com/wp-content/uploads/2026/01/preschool-scaled-e1767660396894.jpeg
END:VEVENT
BEGIN:VEVENT
DTSTART;TZID=America/Los_Angeles:20260512T080000
DTEND;TZID=America/Los_Angeles:20260512T170000
DTSTAMP:20260423T115138
CREATED:20260106T004739Z
LAST-MODIFIED:20260106T010517Z
UID:10088448-1778572800-1778605200@northstateparent.com
SUMMARY:New Montessori Preschool
DESCRIPTION:The Shasta Family YMCA is excited to introduce our new Montessori Preschool Program\, opening February 2026 in Redding! \nDesigned for children ages 2½–5\, this child-centered program fosters independence\, curiosity\, and early learning in a warm\, supportive environment. \nEnrollment opens January 5\, 2026 sfymca.org/montessori | (530) 246-9622 ext. 119
URL:https://northstateparent.com/event/new-montessori-preschool/2026-05-12/
LOCATION:Shasta Family YMCA\, 1155 N. Court St.\, Redding\, CA\, 96003\, United States
CATEGORIES:Educational,Little Ones
ATTACH;FMTTYPE=image/jpeg:https://northstateparent.com/wp-content/uploads/2026/01/preschool-scaled-e1767660396894.jpeg
END:VEVENT
BEGIN:VEVENT
DTSTART;TZID=America/Los_Angeles:20260513T080000
DTEND;TZID=America/Los_Angeles:20260513T170000
DTSTAMP:20260423T115138
CREATED:20260106T004739Z
LAST-MODIFIED:20260106T010517Z
UID:10088449-1778659200-1778691600@northstateparent.com
SUMMARY:New Montessori Preschool
DESCRIPTION:The Shasta Family YMCA is excited to introduce our new Montessori Preschool Program\, opening February 2026 in Redding! \nDesigned for children ages 2½–5\, this child-centered program fosters independence\, curiosity\, and early learning in a warm\, supportive environment. \nEnrollment opens January 5\, 2026 sfymca.org/montessori | (530) 246-9622 ext. 119
URL:https://northstateparent.com/event/new-montessori-preschool/2026-05-13/
LOCATION:Shasta Family YMCA\, 1155 N. Court St.\, Redding\, CA\, 96003\, United States
CATEGORIES:Educational,Little Ones
ATTACH;FMTTYPE=image/jpeg:https://northstateparent.com/wp-content/uploads/2026/01/preschool-scaled-e1767660396894.jpeg
END:VEVENT
BEGIN:VEVENT
DTSTART;TZID=America/Los_Angeles:20260514T080000
DTEND;TZID=America/Los_Angeles:20260514T170000
DTSTAMP:20260423T115138
CREATED:20260106T004739Z
LAST-MODIFIED:20260106T010517Z
UID:10088450-1778745600-1778778000@northstateparent.com
SUMMARY:New Montessori Preschool
DESCRIPTION:The Shasta Family YMCA is excited to introduce our new Montessori Preschool Program\, opening February 2026 in Redding! \nDesigned for children ages 2½–5\, this child-centered program fosters independence\, curiosity\, and early learning in a warm\, supportive environment. \nEnrollment opens January 5\, 2026 sfymca.org/montessori | (530) 246-9622 ext. 119
URL:https://northstateparent.com/event/new-montessori-preschool/2026-05-14/
LOCATION:Shasta Family YMCA\, 1155 N. Court St.\, Redding\, CA\, 96003\, United States
CATEGORIES:Educational,Little Ones
ATTACH;FMTTYPE=image/jpeg:https://northstateparent.com/wp-content/uploads/2026/01/preschool-scaled-e1767660396894.jpeg
END:VEVENT
BEGIN:VEVENT
DTSTART;TZID=America/Los_Angeles:20260515T080000
DTEND;TZID=America/Los_Angeles:20260515T170000
DTSTAMP:20260423T115138
CREATED:20260106T004739Z
LAST-MODIFIED:20260106T010517Z
UID:10088451-1778832000-1778864400@northstateparent.com
SUMMARY:New Montessori Preschool
DESCRIPTION:The Shasta Family YMCA is excited to introduce our new Montessori Preschool Program\, opening February 2026 in Redding! \nDesigned for children ages 2½–5\, this child-centered program fosters independence\, curiosity\, and early learning in a warm\, supportive environment. \nEnrollment opens January 5\, 2026 sfymca.org/montessori | (530) 246-9622 ext. 119
URL:https://northstateparent.com/event/new-montessori-preschool/2026-05-15/
LOCATION:Shasta Family YMCA\, 1155 N. Court St.\, Redding\, CA\, 96003\, United States
CATEGORIES:Educational,Little Ones
ATTACH;FMTTYPE=image/jpeg:https://northstateparent.com/wp-content/uploads/2026/01/preschool-scaled-e1767660396894.jpeg
END:VEVENT
BEGIN:VEVENT
DTSTART;TZID=America/Los_Angeles:20260518T080000
DTEND;TZID=America/Los_Angeles:20260518T170000
DTSTAMP:20260423T115138
CREATED:20260106T004739Z
LAST-MODIFIED:20260106T010517Z
UID:10088452-1779091200-1779123600@northstateparent.com
SUMMARY:New Montessori Preschool
DESCRIPTION:The Shasta Family YMCA is excited to introduce our new Montessori Preschool Program\, opening February 2026 in Redding! \nDesigned for children ages 2½–5\, this child-centered program fosters independence\, curiosity\, and early learning in a warm\, supportive environment. \nEnrollment opens January 5\, 2026 sfymca.org/montessori | (530) 246-9622 ext. 119
URL:https://northstateparent.com/event/new-montessori-preschool/2026-05-18/
LOCATION:Shasta Family YMCA\, 1155 N. Court St.\, Redding\, CA\, 96003\, United States
CATEGORIES:Educational,Little Ones
ATTACH;FMTTYPE=image/jpeg:https://northstateparent.com/wp-content/uploads/2026/01/preschool-scaled-e1767660396894.jpeg
END:VEVENT
BEGIN:VEVENT
DTSTART;TZID=America/Los_Angeles:20260519T080000
DTEND;TZID=America/Los_Angeles:20260519T170000
DTSTAMP:20260423T115138
CREATED:20260106T004739Z
LAST-MODIFIED:20260106T010517Z
UID:10088453-1779177600-1779210000@northstateparent.com
SUMMARY:New Montessori Preschool
DESCRIPTION:The Shasta Family YMCA is excited to introduce our new Montessori Preschool Program\, opening February 2026 in Redding! \nDesigned for children ages 2½–5\, this child-centered program fosters independence\, curiosity\, and early learning in a warm\, supportive environment. \nEnrollment opens January 5\, 2026 sfymca.org/montessori | (530) 246-9622 ext. 119
URL:https://northstateparent.com/event/new-montessori-preschool/2026-05-19/
LOCATION:Shasta Family YMCA\, 1155 N. Court St.\, Redding\, CA\, 96003\, United States
CATEGORIES:Educational,Little Ones
ATTACH;FMTTYPE=image/jpeg:https://northstateparent.com/wp-content/uploads/2026/01/preschool-scaled-e1767660396894.jpeg
END:VEVENT
BEGIN:VEVENT
DTSTART;TZID=America/Los_Angeles:20260520T080000
DTEND;TZID=America/Los_Angeles:20260520T170000
DTSTAMP:20260423T115138
CREATED:20260106T004739Z
LAST-MODIFIED:20260106T010517Z
UID:10088454-1779264000-1779296400@northstateparent.com
SUMMARY:New Montessori Preschool
DESCRIPTION:The Shasta Family YMCA is excited to introduce our new Montessori Preschool Program\, opening February 2026 in Redding! \nDesigned for children ages 2½–5\, this child-centered program fosters independence\, curiosity\, and early learning in a warm\, supportive environment. \nEnrollment opens January 5\, 2026 sfymca.org/montessori | (530) 246-9622 ext. 119
URL:https://northstateparent.com/event/new-montessori-preschool/2026-05-20/
LOCATION:Shasta Family YMCA\, 1155 N. Court St.\, Redding\, CA\, 96003\, United States
CATEGORIES:Educational,Little Ones
ATTACH;FMTTYPE=image/jpeg:https://northstateparent.com/wp-content/uploads/2026/01/preschool-scaled-e1767660396894.jpeg
END:VEVENT
BEGIN:VEVENT
DTSTART;TZID=America/Los_Angeles:20260521T080000
DTEND;TZID=America/Los_Angeles:20260521T170000
DTSTAMP:20260423T115138
CREATED:20260106T004739Z
LAST-MODIFIED:20260106T010517Z
UID:10088455-1779350400-1779382800@northstateparent.com
SUMMARY:New Montessori Preschool
DESCRIPTION:The Shasta Family YMCA is excited to introduce our new Montessori Preschool Program\, opening February 2026 in Redding! \nDesigned for children ages 2½–5\, this child-centered program fosters independence\, curiosity\, and early learning in a warm\, supportive environment. \nEnrollment opens January 5\, 2026 sfymca.org/montessori | (530) 246-9622 ext. 119
URL:https://northstateparent.com/event/new-montessori-preschool/2026-05-21/
LOCATION:Shasta Family YMCA\, 1155 N. Court St.\, Redding\, CA\, 96003\, United States
CATEGORIES:Educational,Little Ones
ATTACH;FMTTYPE=image/jpeg:https://northstateparent.com/wp-content/uploads/2026/01/preschool-scaled-e1767660396894.jpeg
END:VEVENT
BEGIN:VEVENT
DTSTART;TZID=America/Los_Angeles:20260522T080000
DTEND;TZID=America/Los_Angeles:20260522T170000
DTSTAMP:20260423T115138
CREATED:20260106T004739Z
LAST-MODIFIED:20260106T010517Z
UID:10088456-1779436800-1779469200@northstateparent.com
SUMMARY:New Montessori Preschool
DESCRIPTION:The Shasta Family YMCA is excited to introduce our new Montessori Preschool Program\, opening February 2026 in Redding! \nDesigned for children ages 2½–5\, this child-centered program fosters independence\, curiosity\, and early learning in a warm\, supportive environment. \nEnrollment opens January 5\, 2026 sfymca.org/montessori | (530) 246-9622 ext. 119
URL:https://northstateparent.com/event/new-montessori-preschool/2026-05-22/
LOCATION:Shasta Family YMCA\, 1155 N. Court St.\, Redding\, CA\, 96003\, United States
CATEGORIES:Educational,Little Ones
ATTACH;FMTTYPE=image/jpeg:https://northstateparent.com/wp-content/uploads/2026/01/preschool-scaled-e1767660396894.jpeg
END:VEVENT
BEGIN:VEVENT
DTSTART;TZID=America/Los_Angeles:20260525T080000
DTEND;TZID=America/Los_Angeles:20260525T170000
DTSTAMP:20260423T115138
CREATED:20260106T004739Z
LAST-MODIFIED:20260106T010517Z
UID:10088457-1779696000-1779728400@northstateparent.com
SUMMARY:New Montessori Preschool
DESCRIPTION:The Shasta Family YMCA is excited to introduce our new Montessori Preschool Program\, opening February 2026 in Redding! \nDesigned for children ages 2½–5\, this child-centered program fosters independence\, curiosity\, and early learning in a warm\, supportive environment. \nEnrollment opens January 5\, 2026 sfymca.org/montessori | (530) 246-9622 ext. 119
URL:https://northstateparent.com/event/new-montessori-preschool/2026-05-25/
LOCATION:Shasta Family YMCA\, 1155 N. Court St.\, Redding\, CA\, 96003\, United States
CATEGORIES:Educational,Little Ones
ATTACH;FMTTYPE=image/jpeg:https://northstateparent.com/wp-content/uploads/2026/01/preschool-scaled-e1767660396894.jpeg
END:VEVENT
BEGIN:VEVENT
DTSTART;TZID=America/Los_Angeles:20260526T080000
DTEND;TZID=America/Los_Angeles:20260526T170000
DTSTAMP:20260423T115138
CREATED:20260106T004739Z
LAST-MODIFIED:20260106T010517Z
UID:10088458-1779782400-1779814800@northstateparent.com
SUMMARY:New Montessori Preschool
DESCRIPTION:The Shasta Family YMCA is excited to introduce our new Montessori Preschool Program\, opening February 2026 in Redding! \nDesigned for children ages 2½–5\, this child-centered program fosters independence\, curiosity\, and early learning in a warm\, supportive environment. \nEnrollment opens January 5\, 2026 sfymca.org/montessori | (530) 246-9622 ext. 119
URL:https://northstateparent.com/event/new-montessori-preschool/2026-05-26/
LOCATION:Shasta Family YMCA\, 1155 N. Court St.\, Redding\, CA\, 96003\, United States
CATEGORIES:Educational,Little Ones
ATTACH;FMTTYPE=image/jpeg:https://northstateparent.com/wp-content/uploads/2026/01/preschool-scaled-e1767660396894.jpeg
END:VEVENT
BEGIN:VEVENT
DTSTART;TZID=America/Los_Angeles:20260527T080000
DTEND;TZID=America/Los_Angeles:20260527T170000
DTSTAMP:20260423T115138
CREATED:20260106T004739Z
LAST-MODIFIED:20260106T010517Z
UID:10088459-1779868800-1779901200@northstateparent.com
SUMMARY:New Montessori Preschool
DESCRIPTION:The Shasta Family YMCA is excited to introduce our new Montessori Preschool Program\, opening February 2026 in Redding! \nDesigned for children ages 2½–5\, this child-centered program fosters independence\, curiosity\, and early learning in a warm\, supportive environment. \nEnrollment opens January 5\, 2026 sfymca.org/montessori | (530) 246-9622 ext. 119
URL:https://northstateparent.com/event/new-montessori-preschool/2026-05-27/
LOCATION:Shasta Family YMCA\, 1155 N. Court St.\, Redding\, CA\, 96003\, United States
CATEGORIES:Educational,Little Ones
ATTACH;FMTTYPE=image/jpeg:https://northstateparent.com/wp-content/uploads/2026/01/preschool-scaled-e1767660396894.jpeg
END:VEVENT
BEGIN:VEVENT
DTSTART;TZID=America/Los_Angeles:20260528T080000
DTEND;TZID=America/Los_Angeles:20260528T170000
DTSTAMP:20260423T115138
CREATED:20260106T004739Z
LAST-MODIFIED:20260106T010517Z
UID:10088460-1779955200-1779987600@northstateparent.com
SUMMARY:New Montessori Preschool
DESCRIPTION:The Shasta Family YMCA is excited to introduce our new Montessori Preschool Program\, opening February 2026 in Redding! \nDesigned for children ages 2½–5\, this child-centered program fosters independence\, curiosity\, and early learning in a warm\, supportive environment. \nEnrollment opens January 5\, 2026 sfymca.org/montessori | (530) 246-9622 ext. 119
URL:https://northstateparent.com/event/new-montessori-preschool/2026-05-28/
LOCATION:Shasta Family YMCA\, 1155 N. Court St.\, Redding\, CA\, 96003\, United States
CATEGORIES:Educational,Little Ones
ATTACH;FMTTYPE=image/jpeg:https://northstateparent.com/wp-content/uploads/2026/01/preschool-scaled-e1767660396894.jpeg
END:VEVENT
BEGIN:VEVENT
DTSTART;TZID=America/Los_Angeles:20260529T080000
DTEND;TZID=America/Los_Angeles:20260529T170000
DTSTAMP:20260423T115138
CREATED:20260106T004739Z
LAST-MODIFIED:20260106T010517Z
UID:10088461-1780041600-1780074000@northstateparent.com
SUMMARY:New Montessori Preschool
DESCRIPTION:The Shasta Family YMCA is excited to introduce our new Montessori Preschool Program\, opening February 2026 in Redding! \nDesigned for children ages 2½–5\, this child-centered program fosters independence\, curiosity\, and early learning in a warm\, supportive environment. \nEnrollment opens January 5\, 2026 sfymca.org/montessori | (530) 246-9622 ext. 119
URL:https://northstateparent.com/event/new-montessori-preschool/2026-05-29/
LOCATION:Shasta Family YMCA\, 1155 N. Court St.\, Redding\, CA\, 96003\, United States
CATEGORIES:Educational,Little Ones
ATTACH;FMTTYPE=image/jpeg:https://northstateparent.com/wp-content/uploads/2026/01/preschool-scaled-e1767660396894.jpeg
END:VEVENT
END:VCALENDAR