BEGIN:VCALENDAR
VERSION:2.0
PRODID:-//North State Parent magazine - ECPv6.15.20//NONSGML v1.0//EN
CALSCALE:GREGORIAN
METHOD:PUBLISH
X-WR-CALNAME:North State Parent magazine
X-ORIGINAL-URL:https://northstateparent.com
X-WR-CALDESC:Events for North State Parent magazine
REFRESH-INTERVAL;VALUE=DURATION:PT1H
X-Robots-Tag:noindex
X-PUBLISHED-TTL:PT1H
BEGIN:VTIMEZONE
TZID:America/Los_Angeles
BEGIN:DAYLIGHT
TZOFFSETFROM:-0800
TZOFFSETTO:-0700
TZNAME:PDT
DTSTART:20250309T100000
END:DAYLIGHT
BEGIN:STANDARD
TZOFFSETFROM:-0700
TZOFFSETTO:-0800
TZNAME:PST
DTSTART:20251102T090000
END:STANDARD
BEGIN:DAYLIGHT
TZOFFSETFROM:-0800
TZOFFSETTO:-0700
TZNAME:PDT
DTSTART:20260308T100000
END:DAYLIGHT
BEGIN:STANDARD
TZOFFSETFROM:-0700
TZOFFSETTO:-0800
TZNAME:PST
DTSTART:20261101T090000
END:STANDARD
BEGIN:DAYLIGHT
TZOFFSETFROM:-0800
TZOFFSETTO:-0700
TZNAME:PDT
DTSTART:20270314T100000
END:DAYLIGHT
BEGIN:STANDARD
TZOFFSETFROM:-0700
TZOFFSETTO:-0800
TZNAME:PST
DTSTART:20271107T090000
END:STANDARD
END:VTIMEZONE
BEGIN:VEVENT
DTSTART;VALUE=DATE:20260424
DTEND;VALUE=DATE:20260425
DTSTAMP:20260424T130649
CREATED:20251124T171217Z
LAST-MODIFIED:20260417T164403Z
UID:10085924-1776988800-1777075199@northstateparent.com
SUMMARY:Aquarium & Pets: Pet Visits!
DESCRIPTION:If you are looking for a free way to spend those extra days over the school holiday breaks\, head on down to Aquarium & Pets where you and your children can visit and learn about an array of pets\, from reptiles and fish to the furrier kind!  No purchase necessary to visit! \nRegular business hours: 7 days/week\, 9am-6pm
URL:https://northstateparent.com/event/aquarium-pets-pet-visits/2026-04-24/
LOCATION:Aquarium & Pets\, 345 S Main St\, Red Bluff\, 96080\, United States
CATEGORIES:Animals,Educational,Family Friendly,Nature
ATTACH;FMTTYPE=image/jpeg:https://northstateparent.com/wp-content/uploads/2025/11/Aquarium-and-Pets-scaled-e1764004124816.jpeg
END:VEVENT
BEGIN:VEVENT
DTSTART;VALUE=DATE:20260427
DTEND;VALUE=DATE:20260428
DTSTAMP:20260424T130649
CREATED:20251124T171217Z
LAST-MODIFIED:20260417T164403Z
UID:10085925-1777248000-1777334399@northstateparent.com
SUMMARY:Aquarium & Pets: Pet Visits!
DESCRIPTION:If you are looking for a free way to spend those extra days over the school holiday breaks\, head on down to Aquarium & Pets where you and your children can visit and learn about an array of pets\, from reptiles and fish to the furrier kind!  No purchase necessary to visit! \nRegular business hours: 7 days/week\, 9am-6pm
URL:https://northstateparent.com/event/aquarium-pets-pet-visits/2026-04-27/
LOCATION:Aquarium & Pets\, 345 S Main St\, Red Bluff\, 96080\, United States
CATEGORIES:Animals,Educational,Family Friendly,Nature
ATTACH;FMTTYPE=image/jpeg:https://northstateparent.com/wp-content/uploads/2025/11/Aquarium-and-Pets-scaled-e1764004124816.jpeg
END:VEVENT
BEGIN:VEVENT
DTSTART;VALUE=DATE:20260501
DTEND;VALUE=DATE:20260502
DTSTAMP:20260424T130649
CREATED:20251124T171217Z
LAST-MODIFIED:20260417T164403Z
UID:10085926-1777593600-1777679999@northstateparent.com
SUMMARY:Aquarium & Pets: Pet Visits!
DESCRIPTION:If you are looking for a free way to spend those extra days over the school holiday breaks\, head on down to Aquarium & Pets where you and your children can visit and learn about an array of pets\, from reptiles and fish to the furrier kind!  No purchase necessary to visit! \nRegular business hours: 7 days/week\, 9am-6pm
URL:https://northstateparent.com/event/aquarium-pets-pet-visits/2026-05-01/
LOCATION:Aquarium & Pets\, 345 S Main St\, Red Bluff\, 96080\, United States
CATEGORIES:Animals,Educational,Family Friendly,Nature
ATTACH;FMTTYPE=image/jpeg:https://northstateparent.com/wp-content/uploads/2025/11/Aquarium-and-Pets-scaled-e1764004124816.jpeg
END:VEVENT
BEGIN:VEVENT
DTSTART;VALUE=DATE:20260504
DTEND;VALUE=DATE:20260505
DTSTAMP:20260424T130649
CREATED:20251124T171217Z
LAST-MODIFIED:20260417T164403Z
UID:10091531-1777852800-1777939199@northstateparent.com
SUMMARY:Aquarium & Pets: Pet Visits!
DESCRIPTION:If you are looking for a free way to spend those extra days over the school holiday breaks\, head on down to Aquarium & Pets where you and your children can visit and learn about an array of pets\, from reptiles and fish to the furrier kind!  No purchase necessary to visit! \nRegular business hours: 7 days/week\, 9am-6pm
URL:https://northstateparent.com/event/aquarium-pets-pet-visits/2026-05-04/
LOCATION:Aquarium & Pets\, 345 S Main St\, Red Bluff\, 96080\, United States
CATEGORIES:Animals,Educational,Family Friendly,Nature
ATTACH;FMTTYPE=image/jpeg:https://northstateparent.com/wp-content/uploads/2025/11/Aquarium-and-Pets-scaled-e1764004124816.jpeg
END:VEVENT
BEGIN:VEVENT
DTSTART;VALUE=DATE:20260508
DTEND;VALUE=DATE:20260509
DTSTAMP:20260424T130649
CREATED:20251124T171217Z
LAST-MODIFIED:20260417T164403Z
UID:10091532-1778198400-1778284799@northstateparent.com
SUMMARY:Aquarium & Pets: Pet Visits!
DESCRIPTION:If you are looking for a free way to spend those extra days over the school holiday breaks\, head on down to Aquarium & Pets where you and your children can visit and learn about an array of pets\, from reptiles and fish to the furrier kind!  No purchase necessary to visit! \nRegular business hours: 7 days/week\, 9am-6pm
URL:https://northstateparent.com/event/aquarium-pets-pet-visits/2026-05-08/
LOCATION:Aquarium & Pets\, 345 S Main St\, Red Bluff\, 96080\, United States
CATEGORIES:Animals,Educational,Family Friendly,Nature
ATTACH;FMTTYPE=image/jpeg:https://northstateparent.com/wp-content/uploads/2025/11/Aquarium-and-Pets-scaled-e1764004124816.jpeg
END:VEVENT
BEGIN:VEVENT
DTSTART;VALUE=DATE:20260511
DTEND;VALUE=DATE:20260512
DTSTAMP:20260424T130649
CREATED:20251124T171217Z
LAST-MODIFIED:20260417T164403Z
UID:10091533-1778457600-1778543999@northstateparent.com
SUMMARY:Aquarium & Pets: Pet Visits!
DESCRIPTION:If you are looking for a free way to spend those extra days over the school holiday breaks\, head on down to Aquarium & Pets where you and your children can visit and learn about an array of pets\, from reptiles and fish to the furrier kind!  No purchase necessary to visit! \nRegular business hours: 7 days/week\, 9am-6pm
URL:https://northstateparent.com/event/aquarium-pets-pet-visits/2026-05-11/
LOCATION:Aquarium & Pets\, 345 S Main St\, Red Bluff\, 96080\, United States
CATEGORIES:Animals,Educational,Family Friendly,Nature
ATTACH;FMTTYPE=image/jpeg:https://northstateparent.com/wp-content/uploads/2025/11/Aquarium-and-Pets-scaled-e1764004124816.jpeg
END:VEVENT
BEGIN:VEVENT
DTSTART;VALUE=DATE:20260515
DTEND;VALUE=DATE:20260516
DTSTAMP:20260424T130649
CREATED:20251124T171217Z
LAST-MODIFIED:20260417T164403Z
UID:10091534-1778803200-1778889599@northstateparent.com
SUMMARY:Aquarium & Pets: Pet Visits!
DESCRIPTION:If you are looking for a free way to spend those extra days over the school holiday breaks\, head on down to Aquarium & Pets where you and your children can visit and learn about an array of pets\, from reptiles and fish to the furrier kind!  No purchase necessary to visit! \nRegular business hours: 7 days/week\, 9am-6pm
URL:https://northstateparent.com/event/aquarium-pets-pet-visits/2026-05-15/
LOCATION:Aquarium & Pets\, 345 S Main St\, Red Bluff\, 96080\, United States
CATEGORIES:Animals,Educational,Family Friendly,Nature
ATTACH;FMTTYPE=image/jpeg:https://northstateparent.com/wp-content/uploads/2025/11/Aquarium-and-Pets-scaled-e1764004124816.jpeg
END:VEVENT
BEGIN:VEVENT
DTSTART;VALUE=DATE:20260518
DTEND;VALUE=DATE:20260519
DTSTAMP:20260424T130649
CREATED:20251124T171217Z
LAST-MODIFIED:20260417T164403Z
UID:10091535-1779062400-1779148799@northstateparent.com
SUMMARY:Aquarium & Pets: Pet Visits!
DESCRIPTION:If you are looking for a free way to spend those extra days over the school holiday breaks\, head on down to Aquarium & Pets where you and your children can visit and learn about an array of pets\, from reptiles and fish to the furrier kind!  No purchase necessary to visit! \nRegular business hours: 7 days/week\, 9am-6pm
URL:https://northstateparent.com/event/aquarium-pets-pet-visits/2026-05-18/
LOCATION:Aquarium & Pets\, 345 S Main St\, Red Bluff\, 96080\, United States
CATEGORIES:Animals,Educational,Family Friendly,Nature
ATTACH;FMTTYPE=image/jpeg:https://northstateparent.com/wp-content/uploads/2025/11/Aquarium-and-Pets-scaled-e1764004124816.jpeg
END:VEVENT
BEGIN:VEVENT
DTSTART;VALUE=DATE:20260522
DTEND;VALUE=DATE:20260523
DTSTAMP:20260424T130649
CREATED:20251124T171217Z
LAST-MODIFIED:20260417T164403Z
UID:10091536-1779408000-1779494399@northstateparent.com
SUMMARY:Aquarium & Pets: Pet Visits!
DESCRIPTION:If you are looking for a free way to spend those extra days over the school holiday breaks\, head on down to Aquarium & Pets where you and your children can visit and learn about an array of pets\, from reptiles and fish to the furrier kind!  No purchase necessary to visit! \nRegular business hours: 7 days/week\, 9am-6pm
URL:https://northstateparent.com/event/aquarium-pets-pet-visits/2026-05-22/
LOCATION:Aquarium & Pets\, 345 S Main St\, Red Bluff\, 96080\, United States
CATEGORIES:Animals,Educational,Family Friendly,Nature
ATTACH;FMTTYPE=image/jpeg:https://northstateparent.com/wp-content/uploads/2025/11/Aquarium-and-Pets-scaled-e1764004124816.jpeg
END:VEVENT
BEGIN:VEVENT
DTSTART;VALUE=DATE:20260525
DTEND;VALUE=DATE:20260526
DTSTAMP:20260424T130649
CREATED:20251124T171217Z
LAST-MODIFIED:20260417T164403Z
UID:10091537-1779667200-1779753599@northstateparent.com
SUMMARY:Aquarium & Pets: Pet Visits!
DESCRIPTION:If you are looking for a free way to spend those extra days over the school holiday breaks\, head on down to Aquarium & Pets where you and your children can visit and learn about an array of pets\, from reptiles and fish to the furrier kind!  No purchase necessary to visit! \nRegular business hours: 7 days/week\, 9am-6pm
URL:https://northstateparent.com/event/aquarium-pets-pet-visits/2026-05-25/
LOCATION:Aquarium & Pets\, 345 S Main St\, Red Bluff\, 96080\, United States
CATEGORIES:Animals,Educational,Family Friendly,Nature
ATTACH;FMTTYPE=image/jpeg:https://northstateparent.com/wp-content/uploads/2025/11/Aquarium-and-Pets-scaled-e1764004124816.jpeg
END:VEVENT
BEGIN:VEVENT
DTSTART;VALUE=DATE:20260529
DTEND;VALUE=DATE:20260530
DTSTAMP:20260424T130649
CREATED:20251124T171217Z
LAST-MODIFIED:20260417T164403Z
UID:10091538-1780012800-1780099199@northstateparent.com
SUMMARY:Aquarium & Pets: Pet Visits!
DESCRIPTION:If you are looking for a free way to spend those extra days over the school holiday breaks\, head on down to Aquarium & Pets where you and your children can visit and learn about an array of pets\, from reptiles and fish to the furrier kind!  No purchase necessary to visit! \nRegular business hours: 7 days/week\, 9am-6pm
URL:https://northstateparent.com/event/aquarium-pets-pet-visits/2026-05-29/
LOCATION:Aquarium & Pets\, 345 S Main St\, Red Bluff\, 96080\, United States
CATEGORIES:Animals,Educational,Family Friendly,Nature
ATTACH;FMTTYPE=image/jpeg:https://northstateparent.com/wp-content/uploads/2025/11/Aquarium-and-Pets-scaled-e1764004124816.jpeg
END:VEVENT
END:VCALENDAR