BEGIN:VCALENDAR
VERSION:2.0
PRODID:-//North State Parent magazine - ECPv6.15.20//NONSGML v1.0//EN
CALSCALE:GREGORIAN
METHOD:PUBLISH
X-WR-CALNAME:North State Parent magazine
X-ORIGINAL-URL:https://northstateparent.com
X-WR-CALDESC:Events for North State Parent magazine
REFRESH-INTERVAL;VALUE=DURATION:PT1H
X-Robots-Tag:noindex
X-PUBLISHED-TTL:PT1H
BEGIN:VTIMEZONE
TZID:America/Los_Angeles
BEGIN:DAYLIGHT
TZOFFSETFROM:-0800
TZOFFSETTO:-0700
TZNAME:PDT
DTSTART:20250309T100000
END:DAYLIGHT
BEGIN:STANDARD
TZOFFSETFROM:-0700
TZOFFSETTO:-0800
TZNAME:PST
DTSTART:20251102T090000
END:STANDARD
BEGIN:DAYLIGHT
TZOFFSETFROM:-0800
TZOFFSETTO:-0700
TZNAME:PDT
DTSTART:20260308T100000
END:DAYLIGHT
BEGIN:STANDARD
TZOFFSETFROM:-0700
TZOFFSETTO:-0800
TZNAME:PST
DTSTART:20261101T090000
END:STANDARD
BEGIN:DAYLIGHT
TZOFFSETFROM:-0800
TZOFFSETTO:-0700
TZNAME:PDT
DTSTART:20270314T100000
END:DAYLIGHT
BEGIN:STANDARD
TZOFFSETFROM:-0700
TZOFFSETTO:-0800
TZNAME:PST
DTSTART:20271107T090000
END:STANDARD
END:VTIMEZONE
BEGIN:VEVENT
DTSTART;TZID=America/Los_Angeles:20260910T100000
DTEND;TZID=America/Los_Angeles:20260910T230000
DTSTAMP:20260423T095725
CREATED:20260323T170924Z
LAST-MODIFIED:20260417T162024Z
UID:10103481-1789034400-1789081200@northstateparent.com
SUMMARY:Tulelake-Butte Valley Fair
DESCRIPTION:The Tulelake-Butte Valley Fair is back\, “Celebrating 75 Years!” \nEnjoy free entertainment\, a lively parade\, thrilling carnival rides\, motocross\, tuff trucks\, and destruction derby\, plenty of shopping\, and all your favorite fair food. With fun for the whole family\, this community tradition promises a weekend full of excitement and celebration!
URL:https://northstateparent.com/event/tulelake-butte-valley-fair-2/2026-09-10/
LOCATION:Tulelake Butte Valley Fair\, 800 S Main St\, Tulelake\, CA\, 96134\, United States
CATEGORIES:Community Event,County Fair,Fair / Carnival,Family Friendly,Kids / Youth Activities,Parade
ATTACH;FMTTYPE=image/jpeg:https://northstateparent.com/wp-content/uploads/2026/03/Tulelake-Butte-Fair.jpg
ORGANIZER;CN="Tulelake Butte-Valley Fair":MAILTO:Nancy@tbvfair.com
END:VEVENT
BEGIN:VEVENT
DTSTART;TZID=America/Los_Angeles:20260911T100000
DTEND;TZID=America/Los_Angeles:20260911T233000
DTSTAMP:20260423T095725
CREATED:20260323T170924Z
LAST-MODIFIED:20260417T162024Z
UID:10103482-1789120800-1789169400@northstateparent.com
SUMMARY:Tulelake-Butte Valley Fair
DESCRIPTION:The Tulelake-Butte Valley Fair is back\, “Celebrating 75 Years!” \nEnjoy free entertainment\, a lively parade\, thrilling carnival rides\, motocross\, tuff trucks\, and destruction derby\, plenty of shopping\, and all your favorite fair food. With fun for the whole family\, this community tradition promises a weekend full of excitement and celebration!
URL:https://northstateparent.com/event/tulelake-butte-valley-fair-2/2026-09-11/
LOCATION:Tulelake Butte Valley Fair\, 800 S Main St\, Tulelake\, CA\, 96134\, United States
CATEGORIES:Community Event,County Fair,Fair / Carnival,Family Friendly,Kids / Youth Activities,Parade
ATTACH;FMTTYPE=image/jpeg:https://northstateparent.com/wp-content/uploads/2026/03/Tulelake-Butte-Fair.jpg
ORGANIZER;CN="Tulelake Butte-Valley Fair":MAILTO:Nancy@tbvfair.com
END:VEVENT
BEGIN:VEVENT
DTSTART;TZID=America/Los_Angeles:20260912T100000
DTEND;TZID=America/Los_Angeles:20260912T233000
DTSTAMP:20260423T095725
CREATED:20260323T170924Z
LAST-MODIFIED:20260417T162024Z
UID:10103483-1789207200-1789255800@northstateparent.com
SUMMARY:Tulelake-Butte Valley Fair
DESCRIPTION:The Tulelake-Butte Valley Fair is back\, “Celebrating 75 Years!” \nEnjoy free entertainment\, a lively parade\, thrilling carnival rides\, motocross\, tuff trucks\, and destruction derby\, plenty of shopping\, and all your favorite fair food. With fun for the whole family\, this community tradition promises a weekend full of excitement and celebration!
URL:https://northstateparent.com/event/tulelake-butte-valley-fair-2/2026-09-12/
LOCATION:Tulelake Butte Valley Fair\, 800 S Main St\, Tulelake\, CA\, 96134\, United States
CATEGORIES:Community Event,County Fair,Fair / Carnival,Family Friendly,Kids / Youth Activities,Parade
ATTACH;FMTTYPE=image/jpeg:https://northstateparent.com/wp-content/uploads/2026/03/Tulelake-Butte-Fair.jpg
ORGANIZER;CN="Tulelake Butte-Valley Fair":MAILTO:Nancy@tbvfair.com
END:VEVENT
BEGIN:VEVENT
DTSTART;TZID=America/Los_Angeles:20260913T100000
DTEND;TZID=America/Los_Angeles:20260913T190000
DTSTAMP:20260423T095725
CREATED:20260323T170924Z
LAST-MODIFIED:20260417T162024Z
UID:10103484-1789293600-1789326000@northstateparent.com
SUMMARY:Tulelake-Butte Valley Fair
DESCRIPTION:The Tulelake-Butte Valley Fair is back\, “Celebrating 75 Years!” \nEnjoy free entertainment\, a lively parade\, thrilling carnival rides\, motocross\, tuff trucks\, and destruction derby\, plenty of shopping\, and all your favorite fair food. With fun for the whole family\, this community tradition promises a weekend full of excitement and celebration!
URL:https://northstateparent.com/event/tulelake-butte-valley-fair-2/2026-09-13/
LOCATION:Tulelake Butte Valley Fair\, 800 S Main St\, Tulelake\, CA\, 96134\, United States
CATEGORIES:Community Event,County Fair,Fair / Carnival,Family Friendly,Kids / Youth Activities,Parade
ATTACH;FMTTYPE=image/jpeg:https://northstateparent.com/wp-content/uploads/2026/03/Tulelake-Butte-Fair.jpg
ORGANIZER;CN="Tulelake Butte-Valley Fair":MAILTO:Nancy@tbvfair.com
END:VEVENT
END:VCALENDAR