BEGIN:VCALENDAR
VERSION:2.0
PRODID:-//North State Parent magazine - ECPv6.15.20//NONSGML v1.0//EN
CALSCALE:GREGORIAN
METHOD:PUBLISH
X-ORIGINAL-URL:https://northstateparent.com
X-WR-CALDESC:Events for North State Parent magazine
REFRESH-INTERVAL;VALUE=DURATION:PT1H
X-Robots-Tag:noindex
X-PUBLISHED-TTL:PT1H
BEGIN:VTIMEZONE
TZID:America/Los_Angeles
BEGIN:DAYLIGHT
TZOFFSETFROM:-0800
TZOFFSETTO:-0700
TZNAME:PDT
DTSTART:20250309T100000
END:DAYLIGHT
BEGIN:STANDARD
TZOFFSETFROM:-0700
TZOFFSETTO:-0800
TZNAME:PST
DTSTART:20251102T090000
END:STANDARD
BEGIN:DAYLIGHT
TZOFFSETFROM:-0800
TZOFFSETTO:-0700
TZNAME:PDT
DTSTART:20260308T100000
END:DAYLIGHT
BEGIN:STANDARD
TZOFFSETFROM:-0700
TZOFFSETTO:-0800
TZNAME:PST
DTSTART:20261101T090000
END:STANDARD
BEGIN:DAYLIGHT
TZOFFSETFROM:-0800
TZOFFSETTO:-0700
TZNAME:PDT
DTSTART:20270314T100000
END:DAYLIGHT
BEGIN:STANDARD
TZOFFSETFROM:-0700
TZOFFSETTO:-0800
TZNAME:PST
DTSTART:20271107T090000
END:STANDARD
END:VTIMEZONE
BEGIN:VEVENT
DTSTART;TZID=America/Los_Angeles:20261003T130000
DTEND;TZID=America/Los_Angeles:20261003T160000
DTSTAMP:20260425T083937
CREATED:20260121T192659Z
LAST-MODIFIED:20260401T230714Z
UID:10092121-1791032400-1791043200@northstateparent.com
SUMMARY:Pumpkin Splash
DESCRIPTION:Make a splash at CARD’s floating pumpkin patch! Be amazed as the PV Pool is transformed into a one-of-a-kind pumpkin patch where you can jump in\, enjoy one last swim for the season\, and pick out your perfect pumpkin. Then\, get crafty with decorating your pumpkin using paint\, stickers\, and more. Enjoy yummy treats\, music\, and fun Halloween festivities at CARD’s Pumpkin Splash! \n📍PV Pool\, 2320 North Ave\, Chico\n💲 Tickets TBD
URL:https://northstateparent.com/event/pumpkin-splash/
LOCATION:PV Pool\, 2320 North Ave\, Chico\, CA\, 95926\, United States
CATEGORIES:Fall Event,Family Friendly,Halloween,Pumpkin Patch
ATTACH;FMTTYPE=image/png:https://northstateparent.com/wp-content/uploads/2026/01/Pumpkin-Splash-2-scaled.png
END:VEVENT
END:VCALENDAR