BEGIN:VCALENDAR
VERSION:2.0
PRODID:-//North State Parent magazine - ECPv6.15.20//NONSGML v1.0//EN
CALSCALE:GREGORIAN
METHOD:PUBLISH
X-WR-CALNAME:North State Parent magazine
X-ORIGINAL-URL:https://northstateparent.com
X-WR-CALDESC:Events for North State Parent magazine
REFRESH-INTERVAL;VALUE=DURATION:PT1H
X-Robots-Tag:noindex
X-PUBLISHED-TTL:PT1H
BEGIN:VTIMEZONE
TZID:America/Los_Angeles
BEGIN:DAYLIGHT
TZOFFSETFROM:-0800
TZOFFSETTO:-0700
TZNAME:PDT
DTSTART:20250309T100000
END:DAYLIGHT
BEGIN:STANDARD
TZOFFSETFROM:-0700
TZOFFSETTO:-0800
TZNAME:PST
DTSTART:20251102T090000
END:STANDARD
BEGIN:DAYLIGHT
TZOFFSETFROM:-0800
TZOFFSETTO:-0700
TZNAME:PDT
DTSTART:20260308T100000
END:DAYLIGHT
BEGIN:STANDARD
TZOFFSETFROM:-0700
TZOFFSETTO:-0800
TZNAME:PST
DTSTART:20261101T090000
END:STANDARD
BEGIN:DAYLIGHT
TZOFFSETFROM:-0800
TZOFFSETTO:-0700
TZNAME:PDT
DTSTART:20270314T100000
END:DAYLIGHT
BEGIN:STANDARD
TZOFFSETFROM:-0700
TZOFFSETTO:-0800
TZNAME:PST
DTSTART:20271107T090000
END:STANDARD
END:VTIMEZONE
BEGIN:VEVENT
DTSTART;TZID=America/Los_Angeles:20260926T073000
DTEND;TZID=America/Los_Angeles:20260926T120000
DTSTAMP:20260425T084143
CREATED:20260328T135858Z
LAST-MODIFIED:20260401T231018Z
UID:10103666-1790407800-1790424000@northstateparent.com
SUMMARY:Year-Round Redding Farmers Market (Saturdays)
DESCRIPTION:Gather the whole family and enjoy fresh food\, friendly faces\, and a welcoming community atmosphere at the Redding Farmers Market! \nOperated by the Shasta Growers Association (SGA)—one of California’s first farmers market associations\, established in 1977—the market is dedicated to supporting local growers and fresh\, seasonal food. \nSGA operates four certified markets (three in Redding and one in Burney)\, all approved by the Shasta County Agricultural Commissioner and the California Department of Food and Agriculture. \nMarket Highlights:\nFresh\, locally grown produce\nArtisan goods and local makers\nLive entertainment (summer Saturdays)\nScenic Sunday market near the Sundial Bridge at Turtle Bay \nLocations:\nSaturdays (Year-Round): Behind Redding City Hall\nSundays: Near the Sundial Bridge at Turtle Bay (9am-1pm) \nHours:\nWinter (Nov–Mar): Saturdays\, 8:30 AM – 12:00 PM\nSummer (Apr–Oct): Saturdays\, 7:30 AM – 12:00 PM \nPayment Options:EBT/CalFresh\, WIC\, and Senior Nutrition benefits accepted. \nCome support local farms\, enjoy fresh food\, and connect with your community—there’s something for everyone! \nVisit the event website for full details.
URL:https://northstateparent.com/event/year-round-redding-farmers-market-2/2026-09-26/
LOCATION:Redding City Hall | Rear Parking Lot\, 777 Cypress Avenue\, Redding\, CA\, 96001\, United States
CATEGORIES:Family Friendly,Farmers' Markets
ATTACH;FMTTYPE=image/png:https://northstateparent.com/wp-content/uploads/2025/07/Screenshot-2025-07-30-at-3.38.15-PM-scaled.png
ORGANIZER;CN="Redding Farmers Markets":MAILTO:sgaboard19@gmail.com
END:VEVENT
BEGIN:VEVENT
DTSTART;TZID=America/Los_Angeles:20260926T100000
DTEND;TZID=America/Los_Angeles:20260926T110000
DTSTAMP:20260425T084143
CREATED:20260210T234216Z
LAST-MODIFIED:20260211T041433Z
UID:10094734-1790416800-1790420400@northstateparent.com
SUMMARY:Guided Garden Walk
DESCRIPTION:Bring your smartphones or notebooks\, cameras\, and gardening questions for this FREE participant-driven program. We’ll go through the Gardens\, with frequent stops for discussions about beautiful plants that will thrive in your home garden! Then\, you can stop by the Nursery to bring home some plants ideally suited for your garden! \nMonthly on the Last Saturday. \nMeet at the McConnell Botanical Garden West Gate near the Turtle Bay Garden Nursery at 1100 Arboretum Drive.
URL:https://northstateparent.com/event/guided-garden-walk-4/2026-09-26/
LOCATION:Turtle Bay’s McConnell Botanical Gardens\, 1100 Arboretum Dr\, Redding\, CA\, United States
CATEGORIES:Community Event,Educational,Free,Gardening,Nature,Outdoors
ATTACH;FMTTYPE=image/jpeg:https://northstateparent.com/wp-content/uploads/2026/02/Guided-Garden-Walk-Turtle-Bay-Botanical-Gardens-Web-1-scaled.jpg
ORGANIZER;CN="Turtle Bay Garden Nursery":MAILTO:info@turtlebay.org
END:VEVENT
BEGIN:VEVENT
DTSTART;TZID=America/Los_Angeles:20260926T100000
DTEND;TZID=America/Los_Angeles:20260926T160000
DTSTAMP:20260425T084143
CREATED:20260131T043431Z
LAST-MODIFIED:20260402T232703Z
UID:10093569-1790416800-1790438400@northstateparent.com
SUMMARY:Extreme Sports: Beyond Human Limits
DESCRIPTION:Turtle Bay Museum is excited to share the opening of Extreme Sports: Beyond Human Limits on display from January 28 through April 26. \nWant to experience the thrill of extreme sports in a safe environment for all ages? This high-energy exhibition takes you inside the minds and bodies of extreme athletes to explore the psychology\, physiology\, and physicality of some of the most extreme activities in the world. Explore the technology\, creativity\, and innovation generated by these sports while challenging yourself to dive\, jump\, fly\, and climb through physical and virtual activities. Learn about real athletes and what motivates them to go to the next level. Produced by Science North in partnership with the Ontario Science Center. \nDesigned for a diverse audience\, Extreme Sports offers a wide range of interactive experiences showcasing some of the world’s most daring sports. \nInteractive exhibition features: \n\nHighline and balance board challenges\n\n360° virtual mountain biking and whitewater rafting experiences\n\n\nKid-sized climbing wall and large-scale building blocks\n\n\nHands-on educational activities exploring the science behind extreme sports\n\n\nFree for Members – Included with Admission \nOpen:\nWednesday\, Thursday\, Friday at 9am\nSaturday & Sunday at 10am
URL:https://northstateparent.com/event/extreme-sports-beyond-human-limits/2026-09-26/
LOCATION:Turtle Bay Exploration Park\, 844 Sundial Bridge Drive\, Redding\, CA\, United States
CATEGORIES:Athletics / Sports,Health & Wellness,Homeschool Activities,Museum
ATTACH;FMTTYPE=image/png:https://northstateparent.com/wp-content/uploads/2026/01/Screenshot-2026-01-30-at-5.16.19-PM-scaled.png
ORGANIZER;CN="Turtle Bay Exploration Park":MAILTO:info@turtlebay.org
END:VEVENT
BEGIN:VEVENT
DTSTART;TZID=America/Los_Angeles:20260926T100000
DTEND;TZID=America/Los_Angeles:20260926T160000
DTSTAMP:20260425T084143
CREATED:20260420T163431Z
LAST-MODIFIED:20260420T163613Z
UID:10110778-1790416800-1790438400@northstateparent.com
SUMMARY:Historic Homestead Tour
DESCRIPTION:Step Back in Time at the Historic Homestead! Join us for a guided tour inside our historic adobe home and explore what life was like for early pioneers. \nTour Details:\n• Duration: 30–45 minutes\n• Available upon request during visitor center hours\n• No extra charge for tours! \n\n\n\n\nVisitor Center Hours:\nFriday–Sunday | 10:00 AM – 4:00 PM \n\n\n\n\nParking Fees:\n• $6 for regular vehicles\n• $5 for seniors \n\n\n\n\nCome explore history with us this weekend!
URL:https://northstateparent.com/event/historic-homestead-tour/2026-09-26/
LOCATION:William B. Ide Adobe State Historic Park\, 21659 Adobe Road\, Red Bluff\, CA\, 96080\, United States
CATEGORIES:Educational,Family Friendly,Field Trip,Free,History / Historical,Homeschool Activities,Low Cost,Outdoors
ATTACH;FMTTYPE=image/png:https://northstateparent.com/wp-content/uploads/2026/04/Screenshot-2026-04-20-at-9.31.45-AM-scaled.png
END:VEVENT
BEGIN:VEVENT
DTSTART;TZID=America/Los_Angeles:20260926T170000
DTEND;TZID=America/Los_Angeles:20260926T200000
DTSTAMP:20260425T084143
CREATED:20260213T204723Z
LAST-MODIFIED:20260401T230844Z
UID:10095806-1790442000-1790452800@northstateparent.com
SUMMARY:Full Moon Paddle on the Forebay
DESCRIPTION:A unique opportunity to paddle the Forebay at night! \nOn this 2 hour guided paddle is fun for the whole family\, allowing you to paddle for as long or as little as you’d like\, a wonderful chance to experience the Forebay in a whole new light. You will see the sun dip below the horizon as the moon rises up into the sky\, gaze at the stars\, and maybe even see some of the resident wildlife along the shoreline! \nThis unique experience will leave you feeling more connected with nature! It is a great opportunity to view some of the local wildlife that calls the Forebay home\, do some star gazing\, or just take a relaxing paddle with friends and/or family. It would even make a fun date idea! \nWorried about the dark? The moon provides a surprising amount of light and our staff will be there to help guide you safely back to shore with a well lit dock as a guide point! \nYou can choose to paddle out on your choice of a singe or tandem kayak or stand up paddleboard. \nVisit our Event Website link below for more information\, to purchase tickets\, and for additional dates.
URL:https://northstateparent.com/event/full-moon-paddle-on-the-forebay-9/
LOCATION:Forebay Aquatic Center\, 930 Garden Dr\, Oroville\, CA\, 95965\, United States
CATEGORIES:Family Friendly,Homeschool Activities,Nature,Night Out,Outdoors
ATTACH;FMTTYPE=image/png:https://northstateparent.com/wp-content/uploads/2025/04/Full-Moon-Paddles-Real-Estate-Flyer-2-e1744579854749.png
ORGANIZER;CN="Forebay Aquatic Center":MAILTO:programs@featherrivercenter.com
END:VEVENT
END:VCALENDAR