BEGIN:VCALENDAR
VERSION:2.0
PRODID:-//North State Parent magazine - ECPv6.15.20//NONSGML v1.0//EN
CALSCALE:GREGORIAN
METHOD:PUBLISH
X-WR-CALNAME:North State Parent magazine
X-ORIGINAL-URL:https://northstateparent.com
X-WR-CALDESC:Events for North State Parent magazine
REFRESH-INTERVAL;VALUE=DURATION:PT1H
X-Robots-Tag:noindex
X-PUBLISHED-TTL:PT1H
BEGIN:VTIMEZONE
TZID:America/Los_Angeles
BEGIN:DAYLIGHT
TZOFFSETFROM:-0800
TZOFFSETTO:-0700
TZNAME:PDT
DTSTART:20250309T100000
END:DAYLIGHT
BEGIN:STANDARD
TZOFFSETFROM:-0700
TZOFFSETTO:-0800
TZNAME:PST
DTSTART:20251102T090000
END:STANDARD
BEGIN:DAYLIGHT
TZOFFSETFROM:-0800
TZOFFSETTO:-0700
TZNAME:PDT
DTSTART:20260308T100000
END:DAYLIGHT
BEGIN:STANDARD
TZOFFSETFROM:-0700
TZOFFSETTO:-0800
TZNAME:PST
DTSTART:20261101T090000
END:STANDARD
BEGIN:DAYLIGHT
TZOFFSETFROM:-0800
TZOFFSETTO:-0700
TZNAME:PDT
DTSTART:20270314T100000
END:DAYLIGHT
BEGIN:STANDARD
TZOFFSETFROM:-0700
TZOFFSETTO:-0800
TZNAME:PST
DTSTART:20271107T090000
END:STANDARD
END:VTIMEZONE
BEGIN:VEVENT
DTSTART;VALUE=DATE:20260925
DTEND;VALUE=DATE:20260926
DTSTAMP:20260425T084146
CREATED:20251105T215335Z
LAST-MODIFIED:20260402T233647Z
UID:10083843-1790294400-1790380799@northstateparent.com
SUMMARY:Family Dynamics Resource Center
DESCRIPTION:Family Dynamics Resource Center (FDRC)  is a non-profit organization that provides multiple services to the Shasta County community. FDRC has multiple locations and offers counseling services for individuals\, couples and children. Additionally\, Family Dynamics provides Triple P parenting classes\, teen group and FRESH classes for the community. \nOur mission is to reduce incidences of child maltreatment through positive parent education and interventions; to help strengthen the bonds between parents and children. \n*Multiple locations in Redding and Weed — visit our Event Website link for more info and resources today
URL:https://northstateparent.com/event/family-dynamics-resource-center/2026-09-25/
LOCATION:CA
CATEGORIES:Family Friendly,Mental Health,Parenting,Support
ATTACH;FMTTYPE=image/jpeg:https://northstateparent.com/wp-content/uploads/2025/11/therapy-resource-scaled-e1762379582942.jpeg
END:VEVENT
BEGIN:VEVENT
DTSTART;VALUE=DATE:20260925
DTEND;VALUE=DATE:20260926
DTSTAMP:20260425T084146
CREATED:20251215T213236Z
LAST-MODIFIED:20260110T171706Z
UID:10086584-1790294400-1790380799@northstateparent.com
SUMMARY:Whitt Hall Fire House Museum Tours
DESCRIPTION:Schedule a tour of Red Bluff’s very own historic firehouse – complete with vintage fire trucks and tons of historical items.  This is a treat for the whole family! \nTours are free\, donations are appreciated. \nTo schedule your tour\, please call (530) 527-1126. We look forward to seeing you!
URL:https://northstateparent.com/event/whitt-hall-fire-house-museum-tours/2026-09-25/
LOCATION:Whitt Hall Fire House Museum\, 835 Cedar Street\, Red Bluff\, 96080\, United States
CATEGORIES:Museum
ATTACH;FMTTYPE=image/png:https://northstateparent.com/wp-content/uploads/2025/12/Whitt-scaled.png
END:VEVENT
BEGIN:VEVENT
DTSTART;VALUE=DATE:20260925
DTEND;VALUE=DATE:20260926
DTSTAMP:20260425T084146
CREATED:20260106T171518Z
LAST-MODIFIED:20260311T215805Z
UID:10091045-1790294400-1790380799@northstateparent.com
SUMMARY:Parent Powered Texting: Evidence Based Family Engagement
DESCRIPTION:First 5 Siskiyou\, in collaboration with Siskiyou Behavioral Health – MHSA\, is excited about our partnership with\nParentPowered Texting — providing a FREE resource for families with children from birth to 14 years! \nParentPowered is designed to empower parents\, caregivers\, and educators with simple\, accessible insights that they can integrate into everyday teachable moments. This evidence-based text messaging program provides engaging tips for families to help students continue to learn at home. Parents and caregivers receive fun facts and easy ideas on how to promote their children’s development by building on existing family routines. The curriculum is designed to strengthen the protective factors\, which are five characteristics or strengths that act to mitigate risks and\nbuffer the effects of trauma. \nSIGNING UP IS EASY!  Just text SISKIYOU to 70138 \nFor more information\, visit our Event Website link.
URL:https://northstateparent.com/event/parent-powered-texting-evidence-based-family-engagement/2026-09-25/
LOCATION:CA
CATEGORIES:Family Friendly,Free,Parenting,Support
ATTACH;FMTTYPE=image/png:https://northstateparent.com/wp-content/uploads/2026/01/Screenshot-2026-01-06-at-9.10.47-AM-e1767719511933.png
ORGANIZER;CN="First 5 Siskiyou":MAILTO:paula@first5siskiyou.org
END:VEVENT
BEGIN:VEVENT
DTSTART;TZID=America/Los_Angeles:20260925T100000
DTEND;TZID=America/Los_Angeles:20260925T160000
DTSTAMP:20260425T084146
CREATED:20260131T043431Z
LAST-MODIFIED:20260402T232703Z
UID:10093568-1790330400-1790352000@northstateparent.com
SUMMARY:Extreme Sports: Beyond Human Limits
DESCRIPTION:Turtle Bay Museum is excited to share the opening of Extreme Sports: Beyond Human Limits on display from January 28 through April 26. \nWant to experience the thrill of extreme sports in a safe environment for all ages? This high-energy exhibition takes you inside the minds and bodies of extreme athletes to explore the psychology\, physiology\, and physicality of some of the most extreme activities in the world. Explore the technology\, creativity\, and innovation generated by these sports while challenging yourself to dive\, jump\, fly\, and climb through physical and virtual activities. Learn about real athletes and what motivates them to go to the next level. Produced by Science North in partnership with the Ontario Science Center. \nDesigned for a diverse audience\, Extreme Sports offers a wide range of interactive experiences showcasing some of the world’s most daring sports. \nInteractive exhibition features: \n\nHighline and balance board challenges\n\n360° virtual mountain biking and whitewater rafting experiences\n\n\nKid-sized climbing wall and large-scale building blocks\n\n\nHands-on educational activities exploring the science behind extreme sports\n\n\nFree for Members – Included with Admission \nOpen:\nWednesday\, Thursday\, Friday at 9am\nSaturday & Sunday at 10am
URL:https://northstateparent.com/event/extreme-sports-beyond-human-limits/2026-09-25/
LOCATION:Turtle Bay Exploration Park\, 844 Sundial Bridge Drive\, Redding\, CA\, United States
CATEGORIES:Athletics / Sports,Health & Wellness,Homeschool Activities,Museum
ATTACH;FMTTYPE=image/png:https://northstateparent.com/wp-content/uploads/2026/01/Screenshot-2026-01-30-at-5.16.19-PM-scaled.png
ORGANIZER;CN="Turtle Bay Exploration Park":MAILTO:info@turtlebay.org
END:VEVENT
BEGIN:VEVENT
DTSTART;TZID=America/Los_Angeles:20260925T100000
DTEND;TZID=America/Los_Angeles:20260925T160000
DTSTAMP:20260425T084146
CREATED:20260420T163431Z
LAST-MODIFIED:20260420T163613Z
UID:10110777-1790330400-1790352000@northstateparent.com
SUMMARY:Historic Homestead Tour
DESCRIPTION:Step Back in Time at the Historic Homestead! Join us for a guided tour inside our historic adobe home and explore what life was like for early pioneers. \nTour Details:\n• Duration: 30–45 minutes\n• Available upon request during visitor center hours\n• No extra charge for tours! \n\n\n\n\nVisitor Center Hours:\nFriday–Sunday | 10:00 AM – 4:00 PM \n\n\n\n\nParking Fees:\n• $6 for regular vehicles\n• $5 for seniors \n\n\n\n\nCome explore history with us this weekend!
URL:https://northstateparent.com/event/historic-homestead-tour/2026-09-25/
LOCATION:William B. Ide Adobe State Historic Park\, 21659 Adobe Road\, Red Bluff\, CA\, 96080\, United States
CATEGORIES:Educational,Family Friendly,Field Trip,Free,History / Historical,Homeschool Activities,Low Cost,Outdoors
ATTACH;FMTTYPE=image/png:https://northstateparent.com/wp-content/uploads/2026/04/Screenshot-2026-04-20-at-9.31.45-AM-scaled.png
END:VEVENT
BEGIN:VEVENT
DTSTART;TZID=America/Los_Angeles:20260925T103000
DTEND;TZID=America/Los_Angeles:20260925T110000
DTSTAMP:20260425T084146
CREATED:20260319T160208Z
LAST-MODIFIED:20260319T160208Z
UID:10102206-1790332200-1790334000@northstateparent.com
SUMMARY:Preschool Storytime - Redding Library
DESCRIPTION:Join us Fridays at 10:30am for stories\, songs\, and more. Learn early literacy skills and activities you can take home to help your little one get ready for school and develop a love of reading. This program is geared towards three to five year olds and their adults. (30 minute program)
URL:https://northstateparent.com/event/preschool-storytime-redding-library-2/2026-09-25/
LOCATION:Redding Library\, 1100 Parkview Ave\, Redding\, CA\, United States
CATEGORIES:Educational,Family Friendly,Free,Library,Literacy,Little Ones,Story Time
ATTACH;FMTTYPE=image/png:https://northstateparent.com/wp-content/uploads/2026/03/Story-Time-Redding-scaled.png
ORGANIZER;CN="Shasta Public Libraries":MAILTO:TylerS@Shastalibraries.org
END:VEVENT
BEGIN:VEVENT
DTSTART;TZID=America/Los_Angeles:20260925T150000
DTEND;TZID=America/Los_Angeles:20260925T170000
DTSTAMP:20260425T084146
CREATED:20251105T220630Z
LAST-MODIFIED:20251105T220630Z
UID:10084105-1790348400-1790355600@northstateparent.com
SUMMARY:All-Ages Lego Club
DESCRIPTION:Head on down to the Mount Shasta Library for Friday afternoon lego club — relax\, reset your brain after a long week\, inspire and be inspired by your fellow builders\, and let your creativity shine!
URL:https://northstateparent.com/event/all-ages-lego-club/2026-09-25/
LOCATION:Mount Shasta Library\, 515 East Alma Street\, Mount Shasta\, 96067\, United States
CATEGORIES:LEGO Activities
ATTACH;FMTTYPE=image/jpeg:https://northstateparent.com/wp-content/uploads/2023/08/Lego-scaled.jpg
END:VEVENT
BEGIN:VEVENT
DTSTART;TZID=America/Los_Angeles:20260925T183000
DTEND;TZID=America/Los_Angeles:20260925T200000
DTSTAMP:20260425T084146
CREATED:20260424T155438Z
LAST-MODIFIED:20260424T155504Z
UID:10113143-1790361000-1790366400@northstateparent.com
SUMMARY:Fun Family Game Night
DESCRIPTION:Bring the whole family for a FREE fun-filled evening of games and community at the Montague Library! Enjoy a variety of activities for all ages\, including card and board games\, a LEGO corner\, and more. \nActivities Include:\n• Card & board games\n• LEGO corner\n• Pizza & drinks provided* \n*Pizza donated by Cortright’s Market & Deli\n*Drinks donated by Friends of the Montague Library \nHeld every last Friday of the month
URL:https://northstateparent.com/event/fun-family-game-night/2026-09-25/
LOCATION:Montague Library\, 230 South 13th Street\, Montague\, CA\, 96064\, United States
CATEGORIES:Community Event,Family Friendly,Free,Games & Competitions,Library,Night Out
ATTACH;FMTTYPE=image/png:https://northstateparent.com/wp-content/uploads/2026/04/Game-Night-at-the-Library-scaled.png
END:VEVENT
END:VCALENDAR