BEGIN:VCALENDAR
VERSION:2.0
PRODID:-//North State Parent magazine - ECPv6.15.20//NONSGML v1.0//EN
CALSCALE:GREGORIAN
METHOD:PUBLISH
X-ORIGINAL-URL:https://northstateparent.com
X-WR-CALDESC:Events for North State Parent magazine
REFRESH-INTERVAL;VALUE=DURATION:PT1H
X-Robots-Tag:noindex
X-PUBLISHED-TTL:PT1H
BEGIN:VTIMEZONE
TZID:America/Los_Angeles
BEGIN:DAYLIGHT
TZOFFSETFROM:-0800
TZOFFSETTO:-0700
TZNAME:PDT
DTSTART:20240310T100000
END:DAYLIGHT
BEGIN:STANDARD
TZOFFSETFROM:-0700
TZOFFSETTO:-0800
TZNAME:PST
DTSTART:20241103T090000
END:STANDARD
BEGIN:DAYLIGHT
TZOFFSETFROM:-0800
TZOFFSETTO:-0700
TZNAME:PDT
DTSTART:20250309T100000
END:DAYLIGHT
BEGIN:STANDARD
TZOFFSETFROM:-0700
TZOFFSETTO:-0800
TZNAME:PST
DTSTART:20251102T090000
END:STANDARD
BEGIN:DAYLIGHT
TZOFFSETFROM:-0800
TZOFFSETTO:-0700
TZNAME:PDT
DTSTART:20260308T100000
END:DAYLIGHT
BEGIN:STANDARD
TZOFFSETFROM:-0700
TZOFFSETTO:-0800
TZNAME:PST
DTSTART:20261101T090000
END:STANDARD
END:VTIMEZONE
BEGIN:VEVENT
DTSTART;TZID=America/Los_Angeles:20250603T090000
DTEND;TZID=America/Los_Angeles:20250603T110000
DTSTAMP:20260425T182549
CREATED:20250404T005723Z
LAST-MODIFIED:20260401T231733Z
UID:10074601-1748941200-1748948400@northstateparent.com
SUMMARY:Soft Play at Athletics Unlimited
DESCRIPTION:Soft Play time is a time for babies and toddlers to play and learn while in a safe environment. \nParents can go out on the floor with their little ones to encourage play. \nThis is a walk-in play time\, no enrollment necessary!
URL:https://northstateparent.com/event/soft-play-at-athletics-unlimited/2025-06-03/
LOCATION:Athletics Unlimited Gymnastics Center\, 446 Antelope Blvd\, Red Bluff\, 96080\, United States
CATEGORIES:Family Friendly,Gymnastics
ATTACH;FMTTYPE=image/jpeg:https://northstateparent.com/wp-content/uploads/2025/03/athletics-unlimited-soft-play-scaled-e1743521521214.jpg
END:VEVENT
BEGIN:VEVENT
DTSTART;TZID=America/Los_Angeles:20250603T090000
DTEND;TZID=America/Los_Angeles:20250603T120000
DTSTAMP:20260425T182549
CREATED:20240828T165642Z
LAST-MODIFIED:20260401T231705Z
UID:10045163-1748941200-1748952000@northstateparent.com
SUMMARY:Sure Start Family Playtime - Paradise Branch Library
DESCRIPTION:The library invites families to learn through play and meet new people in an educational setting. Educators\, health and human service agency guests will answer questions and curiosity about your child’s early learning and development. Enjoy social connections\, early childhood resources and storytimes all provided in a play-filled environment created just for you. \nSure Start for Early Years is a project supported in whole or in part by funding provided by the State of California\, administered by the California State Library.
URL:https://northstateparent.com/event/sure-start-library-playtime-paradise-library/2025-06-03/
LOCATION:Paradise Branch Library\, 5922 Clark Rd\, Paradise\, CA\, 95969\, United States
CATEGORIES:Family Friendly,Library
ATTACH;FMTTYPE=image/jpeg:https://northstateparent.com/wp-content/uploads/2024/04/Sure-Start-Playtime-scaled.jpg
END:VEVENT
BEGIN:VEVENT
DTSTART;TZID=America/Los_Angeles:20250603T090000
DTEND;TZID=America/Los_Angeles:20250603T143000
DTSTAMP:20260425T182549
CREATED:20250530T220648Z
LAST-MODIFIED:20250702T235554Z
UID:10077966-1748941200-1748961000@northstateparent.com
SUMMARY:Preschool & Swim Lesson Camp
DESCRIPTION:Kids Interconnections Preschool and TK is offering a summer camp with swim lessons!  We will provide breakfast\, lunch\, crafts\, and early childhood education all summer long! \n*Price listed is per month; please contact us for more details!
URL:https://northstateparent.com/event/preschool-swim-lesson-camp/2025-06-03/
LOCATION:Kids Interconnections Preschool\, 4672 Loch Pl.\, Shasta Lake City\, CA\, 96019\, United States
CATEGORIES:Summer Camps
ATTACH;FMTTYPE=image/jpeg:https://northstateparent.com/wp-content/uploads/2025/05/KidsInterconnectionsPScamp-scaled.jpeg
ORGANIZER;CN="Kids Interconnections Preschool":MAILTO:kidsinterconnectionspreschool@gmail.com
END:VEVENT
BEGIN:VEVENT
DTSTART;TZID=America/Los_Angeles:20250603T100000
DTEND;TZID=America/Los_Angeles:20250603T103000
DTSTAMP:20260425T182549
CREATED:20240423T190726Z
LAST-MODIFIED:20241025T194835Z
UID:10051568-1748944800-1748946600@northstateparent.com
SUMMARY:Babies Love Books! (Durham Branch)
DESCRIPTION:It’s never too early to encourage a love of reading and learning! Bring your baby into the library for a fun program full of songs\, games\, and stories tailored for children up to two years of age!
URL:https://northstateparent.com/event/babies-love-books-paradise-branch/2025-06-03/
LOCATION:Durham Branch Library\, 2545 Durham-Dayton Hwy\, Durham\, CA\, 95938\, United States
ATTACH;FMTTYPE=image/jpeg:https://northstateparent.com/wp-content/uploads/2024/04/Reading-2-scaled.jpg
END:VEVENT
BEGIN:VEVENT
DTSTART;TZID=America/Los_Angeles:20250603T100000
DTEND;TZID=America/Los_Angeles:20250603T103000
DTSTAMP:20260425T182549
CREATED:20241025T200512Z
LAST-MODIFIED:20250707T213458Z
UID:10051627-1748944800-1748946600@northstateparent.com
SUMMARY:Babies Love Books! (Paradise Branch)
DESCRIPTION:It’s never too early to encourage a love of reading and learning! Bring your baby into the library for a fun program full of songs\, games\, and stories tailored for children up to two years of age!
URL:https://northstateparent.com/event/babies-love-books-paradise-branch-2/2025-06-03/
LOCATION:Paradise Branch Library\, 5922 Clark Rd\, Paradise\, CA\, 95969\, United States
ATTACH;FMTTYPE=image/jpeg:https://northstateparent.com/wp-content/uploads/2024/04/Reading-2-scaled.jpg
END:VEVENT
BEGIN:VEVENT
DTSTART;TZID=America/Los_Angeles:20250603T100000
DTEND;TZID=America/Los_Angeles:20250603T110000
DTSTAMP:20260425T182549
CREATED:20241025T203638Z
LAST-MODIFIED:20251210T215729Z
UID:10051968-1748944800-1748948400@northstateparent.com
SUMMARY:Preschool Storytime
DESCRIPTION:Bring your preschooler to enjoy stories and fun at the library. \nMake new friends and find new books! \n 
URL:https://northstateparent.com/event/preschool-storytime/2025-06-03/
LOCATION:Chico Branch Library\, 1108 Sherman Ave\, Chico\, CA\, 95926\, United States
ATTACH;FMTTYPE=image/jpeg:https://northstateparent.com/wp-content/uploads/2022/05/storytime.jpeg
END:VEVENT
BEGIN:VEVENT
DTSTART;TZID=America/Los_Angeles:20250603T100000
DTEND;TZID=America/Los_Angeles:20250603T120000
DTSTAMP:20260425T182549
CREATED:20250513T000703Z
LAST-MODIFIED:20250601T234111Z
UID:10076870-1748944800-1748952000@northstateparent.com
SUMMARY:Lake Shastina Tiny Tots Playgroup
DESCRIPTION:Join us for fun-filled mornings at Hoy Park with our Tiny Tots Playgroup! Designed especially for little ones under 5\, each week features a playful new theme—think bubbles\, bugs\, music\, and more! It’s a great way for kids to explore\, socialize\, and move\, and all children are welcome. Come make memories\, meet other families\, and enjoy the magic of play!
URL:https://northstateparent.com/event/lake-shastina-tiny-tots-playgroup/2025-06-03/
LOCATION:Hoy Park\, Lakeside Dr\, Weed\, 96094\, United States
CATEGORIES:Little Ones
ATTACH;FMTTYPE=image/jpeg:https://northstateparent.com/wp-content/uploads/2025/05/Shastina-Tiny-Tots-scaled-e1748821260289.jpg
END:VEVENT
BEGIN:VEVENT
DTSTART;TZID=America/Los_Angeles:20250603T100000
DTEND;TZID=America/Los_Angeles:20250603T160000
DTSTAMP:20260425T182549
CREATED:20240215T180705Z
LAST-MODIFIED:20250604T015143Z
UID:10013741-1748944800-1748966400@northstateparent.com
SUMMARY:Chico Children's Museum
DESCRIPTION:Come to the Chico Children’s Museum with your little ones and watch them learn and grow! Play is vital to your child’s early education and here at the museum our exhibits and activities help enrich early childhood learning through inclusive\, accessible\, hand-on experiences that celebrating curiosity\, connect families and create community. \nYou might even learn something new yourself! \nCheck out our Know Before You Go list if you want to learn about us a bit more and our Facebook page to see any new exhibits! \n\n\nFREE for Members \n\n\nFREE for children UNDER 2 \n\n\n$12 for adults and children \n\n\n$10 for Military\, Grandparents\, Seniors 60+\, Teachers & First Responders \n\n\n$6 with ACM Reciprocal Network Benefits from a participating Children’s Museum \n\n\n$3 with EBT card for SNAP benefits through Museums for All\, up to (4) four people
URL:https://northstateparent.com/event/chico-childrens-museum-4/2025-06-03/
LOCATION:Chico Children’s Museum\, 325 Main Street\, Chico\, CA\, 95928
ATTACH;FMTTYPE=image/jpeg:https://northstateparent.com/wp-content/uploads/2024/02/Chico-Childrens-Museum-4-scaled.jpg
ORGANIZER;CN="Chico Children's Museum":MAILTO:info@chicochildrensmuseum.org
END:VEVENT
BEGIN:VEVENT
DTSTART;TZID=America/Los_Angeles:20250603T103000
DTEND;TZID=America/Los_Angeles:20250603T111500
DTSTAMP:20260425T182549
CREATED:20250207T233048Z
LAST-MODIFIED:20250618T235429Z
UID:10065319-1748946600-1748949300@northstateparent.com
SUMMARY:Little Tumblers
DESCRIPTION:Let your children explore obstacle courses and more with this introduction to movement class. Your little one will have all kinds of fun while working on coordination\, body awareness and basic tumbling skills.  Appropriate for ages 1 – 5 years.  An adult must be present for children younger than 3 or for any child who is not independent. \nVisit our Event Website link below to sign up today!
URL:https://northstateparent.com/event/little-tumblers/2025-06-03/
LOCATION:Shasta Family YMCA\, 1155 N. Court St.\, Redding\, CA\, 96003\, United States
ATTACH;FMTTYPE=image/jpeg:https://northstateparent.com/wp-content/uploads/2023/09/playgroup.jpg
ORGANIZER;CN="Shasta Family YMCA":MAILTO:info@sfymca.org
END:VEVENT
BEGIN:VEVENT
DTSTART;TZID=America/Los_Angeles:20250603T110000
DTEND;TZID=America/Los_Angeles:20250603T113000
DTSTAMP:20260425T182549
CREATED:20250105T145644Z
LAST-MODIFIED:20250620T221805Z
UID:10073364-1748948400-1748950200@northstateparent.com
SUMMARY:Baby Storytime - Redding Library
DESCRIPTION:Join us for Baby Storytime for songs\, stories\, and more. This program will help parents and caregivers learn early literacy skills to practice with their little ones.  Geared towards babies up to 18 months. (20 minute staff lead program\, with time for socializing afterwards.)
URL:https://northstateparent.com/event/baby-storytime-redding-library/2025-06-03/
LOCATION:Redding Library\, 1100 Parkview Ave\, Redding\, CA\, United States
CATEGORIES:Library,Story Time
ATTACH;FMTTYPE=image/png:https://northstateparent.com/wp-content/uploads/2025/01/Baby-Story-e1736088990360.png
ORGANIZER;CN="Shasta Public Libraries":MAILTO:TylerS@Shastalibraries.org
END:VEVENT
BEGIN:VEVENT
DTSTART;TZID=America/Los_Angeles:20250603T113000
DTEND;TZID=America/Los_Angeles:20250603T123000
DTSTAMP:20260425T182549
CREATED:20250509T005946Z
LAST-MODIFIED:20260401T231636Z
UID:10077791-1748950200-1748953800@northstateparent.com
SUMMARY:Lunch at the Redding Library
DESCRIPTION:Need a break from the usual lunch routine? Why not spice up your mid-day with a delicious meal and some great conversation at the library? Enjoy a variety of lunch options in a cozy setting\, Connect with fellow library-goers over casual chats\, and discover exciting new books and upcoming events! Whether you’re catching up on a book\, meeting new people\, or just taking a breather\, Lunch at the Library is the perfect way to add a little joy to your day! \nLunch is provided for school-aged kids (grades K-12) Parents and caretakers not eligible  \nThis project is funded by a grant from the David and Lucile Packard Foundation\, and it is supported in whole or in part by the U.S. Institute of Museum and Library Services under the provisions of the Library Services and Technology Act\, administered in California by the State Librarian.
URL:https://northstateparent.com/event/lunch-at-the-redding-library/2025-06-03/
LOCATION:Redding Library\, 1100 Parkview Ave\, Redding\, CA\, United States
CATEGORIES:Family Friendly,Library,Summertime Event
ATTACH;FMTTYPE=image/png:https://northstateparent.com/wp-content/uploads/2025/02/Lunch-at-the-Library-Social-2025_Redding-e1746751168256.png
END:VEVENT
BEGIN:VEVENT
DTSTART;TZID=America/Los_Angeles:20250603T113000
DTEND;TZID=America/Los_Angeles:20250603T123000
DTSTAMP:20260425T182549
CREATED:20250509T010939Z
LAST-MODIFIED:20250704T034532Z
UID:10076889-1748950200-1748953800@northstateparent.com
SUMMARY:Lunch at the Anderson Library
DESCRIPTION:Need a break from the usual lunch routine? Why not spice up your mid-day with a delicious meal and some great conversation at the library? Enjoy a variety of lunch options in a cozy setting\, Connect with fellow library-goers over casual chats\, and discover exciting new books and upcoming events! Whether you’re catching up on a book\, meeting new people\, or just taking a breather\, Lunch at the Library is the perfect way to add a little joy to your day! \nLunch is provided for school-aged kids (grades K-12) Parents and caretakers not eligible  \nThis project is funded by a grant from the David and Lucile Packard Foundation\, and it is supported in whole or in part by the U.S. Institute of Museum and Library Services under the provisions of the Library Services and Technology Act\, administered in California by the State Librarian.
URL:https://northstateparent.com/event/lunch-at-the-anderson-library/2025-06-03/
LOCATION:Anderson Library\, 3200 West Center St.\, Anderson\, CA\, 96007\, United States
CATEGORIES:Free
ATTACH;FMTTYPE=image/png:https://northstateparent.com/wp-content/uploads/2025/02/Lunch-at-the-Library-Social-2025_Anderson-e1746653334553.png
END:VEVENT
BEGIN:VEVENT
DTSTART;TZID=America/Los_Angeles:20250603T140000
DTEND;TZID=America/Los_Angeles:20250603T190000
DTSTAMP:20260425T182549
CREATED:20241107T182453Z
LAST-MODIFIED:20260311T215817Z
UID:10053560-1748959200-1748977200@northstateparent.com
SUMMARY:Rare Air Tuesday Family Night
DESCRIPTION:Are you looking for something fun and active to do with your family? Look no further than Rare Air Trampoline Park! Every Tuesday night is Family Night starting at 2pm. 1 HR Jump Session with access to our Trampoline Arena (Main Court\, Air Bag Pit\, Battle Beam\, Dodgeball Court\, Slam Dunk Hoops\, & Rock Wall!) \n\n\n\n\n\n\n\n\n\n\n\n$11 per jumper over 42”.\n$7 per jumper 42” and below.\n$3 Rare Air Jump Socks are REQUIRED.\nAdditional HR ONLY $3 per jumper.\nBoard Games are available upon request.\nWaivers are required and can be filled out HERE.
URL:https://northstateparent.com/event/tuesday-family-night/2025-06-03/
LOCATION:Rare Air Trampoline Park Chico\, 1090 E. 20th St.\, Chico\, 95928
CATEGORIES:Family Friendly
ATTACH;FMTTYPE=image/jpeg:https://northstateparent.com/wp-content/uploads/2024/07/tuesday-family-night-rare-air-trampoline-park-hdr-scaled-e1731003750549.jpg
END:VEVENT
BEGIN:VEVENT
DTSTART;TZID=America/Los_Angeles:20250603T140000
DTEND;TZID=America/Los_Angeles:20250603T210000
DTSTAMP:20260425T182549
CREATED:20240503T171909Z
LAST-MODIFIED:20250703T002118Z
UID:10028181-1748959200-1748984400@northstateparent.com
SUMMARY:Shasta Rock Club
DESCRIPTION:If you can climb a ladder\, you can climb on our walls. Come over to Shasta Rock Club\, an indoor rock-climbing gym offers fun and challenging routes for climbers of all abilities\, sizes\, shapes & ages. Build strength\, balance and problem-solving skills and have fun doing so! Whether you’re brand new or a seasoned climber\, there is something for everyone. \nPlease check website for Holiday Hours. \nFor more information\, click here. \nFind day pass prices here!
URL:https://northstateparent.com/event/shasta-rock-club-2/2025-06-03/
LOCATION:Shasta Rock Club\, 2325 Athens Ave\, Redding\, 96001\, United States
ATTACH;FMTTYPE=image/jpeg:https://northstateparent.com/wp-content/uploads/2024/05/Shasta-Rock-Club-2-scaled.jpg
ORGANIZER;CN="Shasta Rock Club":MAILTO:youth@shastarockclub.com
END:VEVENT
BEGIN:VEVENT
DTSTART;TZID=America/Los_Angeles:20250603T150000
DTEND;TZID=America/Los_Angeles:20250603T163000
DTSTAMP:20260425T182549
CREATED:20250123T234150Z
LAST-MODIFIED:20250124T000618Z
UID:10064520-1748962800-1748968200@northstateparent.com
SUMMARY:Art Mentorship with renowned artist Baruch Inbar
DESCRIPTION:Art Mentorship for Kids is not your typical art class — it is the only program of its kind in the county\, dedicated to empowering young artists ages 7-12 with a passion for creative industries like cartoons\, video game design\, illustration\, children’s books\, comics\, and toy design. \nThis hands-on mentorship offers a unique opportunity for budding creatives to: \n\nEnhance their skills in drawing and painting.\nMaster visual storytelling to express their ideas and emotions effectively.\nExplore the world of media and entertainment arts\, guided by professional insights.\n\nOur mission is to nurture the imagination and skills necessary for these exciting fields\, providing students with tools that go beyond traditional art instruction. \nOur instructor\, Baruch Inbar\, is an award-winning artist who has worked with Disney\, Fox\, Sony and other entertainment clients. His website is: http://www.behance.net/snaut \n  \nTo sign up for classes\, please email Baruch at Baruch@snaut.com\, or call/text: (512) 222-7824 \n 
URL:https://northstateparent.com/event/art-mentorship-with-renowned-artist-baruch-inbar/2025-06-03/
LOCATION:Sisson Middle School\, 601 E Alma\, Mount Shasta\, CA\, 96067\, United States
CATEGORIES:After School Activities
ATTACH;FMTTYPE=image/jpeg:https://northstateparent.com/wp-content/uploads/2025/01/Baruch-Art-Mentorship-scaled-e1737673936358.jpeg
ORGANIZER;CN="Baruch Inbar":MAILTO:Baruch@snaut.com
END:VEVENT
BEGIN:VEVENT
DTSTART;TZID=America/Los_Angeles:20250603T150000
DTEND;TZID=America/Los_Angeles:20250603T173000
DTSTAMP:20260425T182549
CREATED:20250106T170944Z
LAST-MODIFIED:20251210T221009Z
UID:10079620-1748962800-1748971800@northstateparent.com
SUMMARY:Kids' Crafternoon - Durham Library
DESCRIPTION:Join us for arts and crafts every Tuesday afternoon.  We will have a different craft each week.
URL:https://northstateparent.com/event/kids-crafternoon-durham-library/2025-06-03/
LOCATION:Durham Branch Library\, 2545 Durham-Dayton Hwy\, Durham\, CA\, 95938\, United States
CATEGORIES:After School Activities
ATTACH;FMTTYPE=image/jpeg:https://northstateparent.com/wp-content/uploads/2023/08/Arts-Crafts-Library-Photo-.jpg
END:VEVENT
BEGIN:VEVENT
DTSTART;TZID=America/Los_Angeles:20250603T151500
DTEND;TZID=America/Los_Angeles:20250603T163000
DTSTAMP:20260425T182549
CREATED:20250222T233944Z
LAST-MODIFIED:20250222T233944Z
UID:10069928-1748963700-1748968200@northstateparent.com
SUMMARY:Wrestling Class at Corning Rec
DESCRIPTION:Instructor Dustin Rodgers\, an experienced coach with years of wrestling expertise\, will lead the program. \nWith his guidance\, athletes will develop strength\, technique\, and confidence both on and off the mat. Whether your child is new to wrestling or looking to take their skills to the next level\, this class is open to all levels. It’s a great way to build discipline\, improve fitness\, and make new friends in a fun\, supportive environment.Space is limited\, so sign up today! corningrecreation.recdesk.com/Community/Program
URL:https://northstateparent.com/event/wrestling-class-at-corning-rec/2025-06-03/
LOCATION:Corning Rec Room\, 1081 Solano St\, Corning\, 96021\, United States
ATTACH;FMTTYPE=image/jpeg:https://northstateparent.com/wp-content/uploads/2025/02/Wrestling-e1740267314504.jpg
ORGANIZER;CN="City of Corning Recreation Department":MAILTO:cmeeds@corning.org
END:VEVENT
BEGIN:VEVENT
DTSTART;TZID=America/Los_Angeles:20250603T170000
DTEND;TZID=America/Los_Angeles:20250603T180000
DTSTAMP:20260425T182549
CREATED:20250222T234241Z
LAST-MODIFIED:20250222T234241Z
UID:10069860-1748970000-1748973600@northstateparent.com
SUMMARY:Ballet Folklórico Class (K - 3rd grades)
DESCRIPTION:This vibrant and cultural dance form celebrates the beauty of traditional Mexican music and movements\, and we can’t wait to share it with you!Why join…?Build confidence and grace while learning cultural dances.Express yourself through vibrant and colorful choreography.Connect with others in a fun\, supportive environment. \nStudents will be performing at the Tuesday Night Markets on May 6th & June 3rd \n Space is limited\, so don’t wait! Secure your spot today by pre-registering online! Sign up here: corningrecreation.recdesk.com/Community/Program
URL:https://northstateparent.com/event/ballet-folklorico-class-k-3rd-grades/2025-06-03/
LOCATION:Rodgers Theatre\, 1217 Solano Street\, Corning\, CA\, 96021
ATTACH;FMTTYPE=image/jpeg:https://northstateparent.com/wp-content/uploads/2025/02/Ballet-Folklorico-e1740266789165.jpg
ORGANIZER;CN="City of Corning Recreation Department":MAILTO:cmeeds@corning.org
END:VEVENT
BEGIN:VEVENT
DTSTART;TZID=America/Los_Angeles:20250603T173000
DTEND;TZID=America/Los_Angeles:20250603T193000
DTSTAMP:20260425T182549
CREATED:20240910T235430Z
LAST-MODIFIED:20250604T014511Z
UID:10046570-1748971800-1748979000@northstateparent.com
SUMMARY:Parenting The Nuturing Way
DESCRIPTION:Research clearly demonstrates that a nurturingapproach supports the development of positive relationships which are central to both learning and wellbeing. These classes focus on the unique developmental needs of young children and sets the foundation for nurturing and healthy family relationships. \nParents learn skills in developmentally appropriate activities and expectations\, nurturing touch\, positive and effective discipline techniques\, and self-nurturing skills. \nFacilitated by Carla Charraga – Carla Charraga earned a Bachelor of Arts degree from UC Berkeley and is a certified Anger Replacement Therapy (ART) Facilitator. She is fluent in Spanish and English\, and is currently Executive Director at Siskiyou Domestic Violence and Crisis Center. \nFamily dinner and child care provided.  No cost to participants.
URL:https://northstateparent.com/event/parenting-the-nuturing-way/2025-06-03/
LOCATION:Main Street\, Weed\, CA\, Weed\, CA\, 96094\, United States
ATTACH;FMTTYPE=image/png:https://northstateparent.com/wp-content/uploads/2024/09/parenting-e1726012458358.png
ORGANIZER;CN="First 5 Siskiyou":MAILTO:paula@first5siskiyou.org
END:VEVENT
BEGIN:VEVENT
DTSTART;TZID=America/Los_Angeles:20250603T173000
DTEND;TZID=America/Los_Angeles:20250603T200000
DTSTAMP:20260425T182549
CREATED:20250518T002231Z
LAST-MODIFIED:20250518T002231Z
UID:10077903-1748971800-1748980800@northstateparent.com
SUMMARY:An Evening at The California Peony Co. Farm
DESCRIPTION:Join California Peony Co.\, Denny Bar Co. & Etna Brewing Co. for a magical evening under the stars at the beautiful California Peony Co Farm. This one-of-a-kind celebration brings together the best of Northern California’s handcrafted spirits\, artisanal brews\, fresh blooms\, and vibrant community. \nSavor the experience with signature cocktails\, locally brewed beers\, elevated bites\, and sweet treats. Enjoy the sounds of live music\, play lawn games\, and connect with the makers behind your favorite local brands in a relaxed\, picturesque setting. \nEach ticket includes: Admission to the California Peony Farm\, 2 drink tickets (craft cocktails or local beer)\, light elevated bites and artisanal treats\, a fresh bouquet of peonies to take home\, live music and yard games\, and a chance to meet the makers of your favorite local spirits and brews!
URL:https://northstateparent.com/event/an-evening-at-the-california-peony-co-farm/
LOCATION:California Peony Company\, 10703 S State Highway 3\, Callahan\, 96014\, United States
CATEGORIES:21 and over,Date Night
ATTACH;FMTTYPE=image/jpeg:https://northstateparent.com/wp-content/uploads/2025/05/coral_charm_peony-scaled-e1747527585343.jpeg
ORGANIZER;CN="California Peony Company":MAILTO:cpcgrowing@gmail.com
END:VEVENT
BEGIN:VEVENT
DTSTART;TZID=America/Los_Angeles:20250603T180000
DTEND;TZID=America/Los_Angeles:20250603T190000
DTSTAMP:20260425T182549
CREATED:20240209T173635Z
LAST-MODIFIED:20250606T021807Z
UID:10045358-1748973600-1748977200@northstateparent.com
SUMMARY:Mt. Shasta Astronomy Club Monthly Meeting
DESCRIPTION:If you’ve ever been curious or awed about the night sky\, come join us! We are dedicated to promoting all aspects of amateur astronomy for the benefit of its members and the general public. \nAstronomy Club monthly meeting includes visual presentation and discussion. \nOpen to all ages! \nIf you are unable to attend in person\, please consider joining us through Zoom:\nDate & Time:  Tuesday Jan 7\, 2025 06:00 PM Pacific Time\nMeeting ID: 954 605 0943\nPasscode: Stars\nInvite Link:  us06web.zoom.us/j/9546050943?pwd=TWNvaDFqTDJNaVFEUUYyY2FqbUJ1Zz09&omn=82448026440
URL:https://northstateparent.com/event/mt-shasta-astronomy-club-monthly-meeting/2025-06-03/
LOCATION:Mt. Shasta Library\, 515 East Alma Street\, Mount Shasta\, 96067\, United States
ATTACH;FMTTYPE=image/jpeg:https://northstateparent.com/wp-content/uploads/2023/10/Astronomy.jpg
ORGANIZER;CN="Mt Shasta Star Gazers":MAILTO:jfh@LanguageQuest.com
END:VEVENT
END:VCALENDAR